<?xml version="1.0" encoding="ISO-8859-1"?>
<metadata>
	<idinfo>
		<citation>
			<citeinfo>
				<origin>Larsen, J.C.</origin>
				<origin>Assmus, K.C.</origin>
				<origin>Causey, J.D.</origin>
				<origin>Zientek, M.L.</origin>
				<pubdate Sync="TRUE">2004</pubdate>
				<title>Rectified images of selected geologic maps of the northern Rockies area, Idaho, Montana, Washington, and Wyoming</title>
				<geoform>raster digital data</geoform>
				<serinfo>
					<sername>U.S. Geological Survey Data Series</sername>
					<issue>DS 106</issue>
				</serinfo>
				<pubinfo>
					<pubplace>Menlo Park, CA</pubplace>
					<publish>U.S. Geological Survey</publish>
				</pubinfo>
			</citeinfo>
		</citation>
		<descript>
			<abstract>This rectified map image was created for the purpose of directly comparing an image of the original geologic map with other geospatial information.  The rectified image includes the map and coordinate labels; titles, text, explanations, cross sections, and collar information were cropped.</abstract>
			<purpose>This rectified image was created to allow the direct comparison of a published geologic map with other geospatial information in a geographic information system.  The rectified image can be compared to vector representations of the same map to ensure that features are coded correctly and that all geologic information on the published map was captured in the vector files.  The image also quickly illustrates how the author intended to symbolize the map.</purpose>
			<supplinf>Bearpaw_geo_rect.sid is a rectified (georeferenced) MrSID image format file that was derived from an unpublished rectified TIFF image format file which, in turn, was created by scanning a paper copy of the original map by B. Carter Hearn Jr. (1976).</supplinf>
			<langdata Sync="TRUE">en</langdata>
		</descript>
		<timeperd>
			<timeinfo>
				<sngdate>
					<caldate>1976</caldate>
				</sngdate>
			</timeinfo>
			<current>Publication date of original map</current>
		</timeperd>
		<status>
			<progress>Complete</progress>
			<update>None planned</update>
		</status>
		<spdom>
			<bounding Sync="TRUE">
				<westbc Sync="TRUE">-110.179268</westbc>
				<eastbc Sync="TRUE">-108.945751</eastbc>
				<northbc Sync="TRUE">48.640108</northbc>
				<southbc Sync="TRUE">47.824000</southbc>
			</bounding>
			<lboundng Sync="TRUE">
				<leftbc Sync="TRUE">561415.055278</leftbc>
				<rightbc Sync="TRUE">651379.031398</rightbc>
				<topbc Sync="TRUE">5387565.971070</topbc>
				<bottombc Sync="TRUE">5298500.335905</bottombc>
			</lboundng>
		</spdom>
		<keywords>
			<theme>
				<themekt>None</themekt>
				<themekey>geologic map</themekey>
				<themekey>rectified raster image</themekey>
				<themekey>digital image</themekey>
				<themekey>georeferenced image</themekey>
			</theme>
			<place>
				<placekey>Bearpaw Mountains</placekey>
				<placekey>Montana</placekey>
				<placekey>USA</placekey>
			</place>
		</keywords>
		<accconst>none</accconst>
		<useconst>This digital image is not meant to be used or displayed at any scale larger than 1:125,000 (for example, 1:2,000).</useconst>
		<ptcontac>
			<cntinfo>
				<cntperp>
					<cntper>Michael L. Zientek</cntper>
					<cntorg>U.S. Geological Survey</cntorg>
				</cntperp>
				<cntpos>Geologist</cntpos>
				<cntaddr>
					<addrtype>mailing and physical address</addrtype>
					<address>904 W. Riverside, Room 202</address>
					<city>Spokane</city>
					<state>WA</state>
					<postal>99201-1087</postal>
				</cntaddr>
				<cntvoice>(509) 368-3105</cntvoice>
				<cntemail>mzientek@usgs.gov</cntemail>
			</cntinfo>
		</ptcontac>
		<datacred>N/A</datacred>
		<native>Microsoft Windows 2000 Version 5.1 (Build 2600) Service Pack 1; ESRI ArcGIS 8.3, Adobe Photoshop Elements 2.0; LizardTech Geospatial Encoder 1.4; 3001, Inc. RAster Georeference Enabler (RAGE) 1.1.17.</native>
		<natvform Sync="TRUE">Raster Dataset</natvform>
	</idinfo>
	<dataqual>
		<complete Sync="TRUE">The title, text, explanation, cross section, index maps and collar information of the original data source map are cropped or partially cropped in the georeferenced MrSID image.</complete>
		<posacc>
			<horizpa>
				<horizpar>The rectified image was tested to ensure it was projected and georeferenced properly by overlying it with a latitude and longitude tic points coverage (tic120602utm) that was mathematically generated using ARC/INFO.  At the scale of publication, reference points on image coincided with corresponding reference points of the tic file.</horizpar>
			</horizpa>
			<vertacc>
				<vertaccr>N/A</vertaccr>
			</vertacc>
		</posacc>
		<lineage>
			<srcinfo>
				<srccite>
					<citeinfo>
						<origin>Hearn, B.C., Jr.</origin>
						<pubdate>1976</pubdate>
						<title>Geologic and tectonic maps of the Bearpaw Mountains Area, North-Central Montana</title>
						<geoform>map</geoform>
						<serinfo>
							<sername>U.S. Geological Survey Miscellaneous Investigations Series Map</sername>
							<issue>I-919</issue>
						</serinfo>
						<pubinfo>
							<pubplace>Denver, CO</pubplace>
							<publish>U.S. Geological Survey</publish>
						</pubinfo>
						<othercit>Sheet 1 of 2</othercit>
					</citeinfo>
				</srccite>
				<srcscale>125000</srcscale>
				<typesrc>paper</typesrc>
				<srctime>
					<timeinfo>
						<sngdate>
							<caldate>1976</caldate>
						</sngdate>
					</timeinfo>
					<srccurr>publication date</srccurr>
				</srctime>
				<srccitea>Hearn (1976)</srccitea>
				<srccontr>The full map extent of the original paper map and marginal coordinate information, excluding the title, explanation, cross-sections, index maps, and other collar information, was used in this data set.</srccontr>
			</srcinfo>
			<procstep>
				<procdesc>The original paper map was scanned and saved as a 300 dpi, 24-bit color TIFF image using an HP-4200 Designjet scanner.  The scanned TIFF image was cropped to include the map and marginal coordinate information.  The resulting TIFF image was rotated and color balanced using Adobe Photoshop Elements 2.0.  A polygon shapefile of 1:100,000-scale quadrangles (hwquad100g.shp) was used to rectify the image with ArcMap 8.3.  Latitude and longitude intersections displayed on the TIFF image were tied to the corresponding quadrangle corner in the hwquad100g.shp file.  The rectified TIFF was then opened in LizardTech Geospatial Encoder 1.4 and converted to MrSID image format using a 10:1 compression ratio.  The resulting files include the image data (*.sid) and a world file (*.sdw).  ArcGIS did not recognize coordinate information for these files, so 3001, Inc.'s RAster Georeference Enabler (RAGE) tool was used to associate coordinate information with the MrSID image.  The RAGE tool is available from URL = http://www.3001data.com/3001website/main/downloads_files/rage/geotiff_header_repair.htm.</procdesc>
				<procdate>2004</procdate>
				<srcused>Hearn (1976)</srcused><srcprod>Bearpaw_geo_rect.sid</srcprod></procstep>
		</lineage>
	</dataqual>
	<spdoinfo>
		<direct Sync="TRUE">Raster</direct>
		<rastinfo>
			<rasttype Sync="TRUE">Pixel</rasttype>
			<rowcount Sync="TRUE">8229</rowcount>
			<colcount Sync="TRUE">8312</colcount>
			<vrtcount Sync="TRUE">1</vrtcount>
			<rastband Sync="TRUE">3</rastband>
			<rastbpp Sync="TRUE">8</rastbpp>
			<rastcmap Sync="TRUE">FALSE</rastcmap>
			<rastcomp Sync="TRUE">Wavelet</rastcomp>
			<rastdtyp Sync="TRUE">pixel codes</rastdtyp>
			<rastifor Sync="TRUE">MrSID</rastifor>
			<rastorig Sync="TRUE">Upper Left</rastorig>
			<rastplyr Sync="TRUE">TRUE</rastplyr>
			<rastxsz Sync="TRUE">10.823385</rastxsz>
			<rastysz Sync="TRUE">10.823385</rastysz>
		</rastinfo>
	</spdoinfo>
	<spref>
		<horizsys Sync="TRUE">
			<planar>
				<gridsys>
					<gridsysn Sync="TRUE">Universal Transverse Mercator</gridsysn>
					<utm>
						<utmzone Sync="TRUE">12</utmzone>
						<transmer>
							<sfctrmer Sync="TRUE">0.999600</sfctrmer>
							<longcm Sync="TRUE">-111.000000</longcm>
							<latprjo Sync="TRUE">0.000000</latprjo>
							<feast Sync="TRUE">500000.000000</feast>
							<fnorth Sync="TRUE">0.000000</fnorth>
						</transmer>
					</utm>
				</gridsys>
				<planci Sync="TRUE">
					<plance Sync="TRUE">row and column</plance>
					<coordrep>
						<absres Sync="TRUE">10.823385</absres>
						<ordres Sync="TRUE">10.823385</ordres>
					</coordrep>
					<plandu Sync="TRUE">meters</plandu>
				</planci>
			</planar>
			<geodetic Sync="TRUE">
				<horizdn Sync="TRUE">North American Datum of 1927</horizdn>
				<ellips Sync="TRUE">Clarke 1866</ellips>
				<semiaxis Sync="TRUE">6378206.400000</semiaxis>
				<denflat Sync="TRUE">294.978698</denflat>
			</geodetic>
			<cordsysn Sync="TRUE">
				<geogcsn Sync="TRUE">GCS_North_American_1927</geogcsn>
				<projcsn Sync="TRUE">NAD_1927_UTM_Zone_12N</projcsn>
			</cordsysn>
		</horizsys>
	</spref>
	<eainfo>
		<detailed Name="Band_1">
			<enttyp Name="Band_1">
				<enttypl Sync="TRUE">Band_1</enttypl>
				<enttypc Sync="TRUE">256</enttypc>
				<enttypt Sync="TRUE">Table</enttypt>
			</enttyp>
			<attr Sync="TRUE">
				<attrlabl Sync="TRUE">ObjectID</attrlabl>
				<attrdef Sync="TRUE">Internal feature number.</attrdef>
				<attrdefs Name="Band_1">ESRI</attrdefs>
				<attrdomv Sync="TRUE">
					<udom Sync="TRUE">Sequential unique whole numbers that are automatically generated.</udom>
				</attrdomv>
				<atprecis Sync="TRUE">0</atprecis>
				<attalias Sync="TRUE">ObjectID</attalias>
				<attrtype Sync="TRUE">OID</attrtype>
				<attscale Sync="TRUE">0</attscale>
				<attwidth Sync="TRUE">4</attwidth>
			</attr>
			<attr>
				<attrlabl Sync="TRUE">Value</attrlabl>
				<atprecis Sync="TRUE">0</atprecis>
				<attalias Sync="TRUE">Value</attalias>
				<attrtype Sync="TRUE">Integer</attrtype>
				<attscale Sync="TRUE">0</attscale>
				<attwidth Sync="TRUE">0</attwidth>
			</attr>
			<attr>
				<attrlabl Sync="TRUE">Count</attrlabl>
				<atprecis Sync="TRUE">0</atprecis>
				<attalias Sync="TRUE">Count</attalias>
				<attrtype Sync="TRUE">Integer</attrtype>
				<attscale Sync="TRUE">0</attscale>
				<attwidth Sync="TRUE">0</attwidth>
			</attr>
		</detailed>
		<detailed Name="Band_2">
			<enttyp Name="Band_2">
				<enttypl Sync="TRUE">Band_2</enttypl>
				<enttypc Sync="TRUE">256</enttypc>
				<enttypt Sync="TRUE">Table</enttypt>
			</enttyp>
			<attr>
				<attrlabl Sync="TRUE">ObjectID</attrlabl>
				<attrdef Sync="TRUE">Internal feature number.</attrdef>
				<attrdefs Name="Band_2">ESRI</attrdefs>
				<attrdomv Sync="TRUE">
					<udom Sync="TRUE">Sequential unique whole numbers that are automatically generated.</udom>
				</attrdomv>
				<atprecis Sync="TRUE">0</atprecis>
				<attalias Sync="TRUE">ObjectID</attalias>
				<attrtype Sync="TRUE">OID</attrtype>
				<attscale Sync="TRUE">0</attscale>
				<attwidth Sync="TRUE">4</attwidth>
			</attr>
			<attr>
				<attrlabl Sync="TRUE">Value</attrlabl>
				<atprecis Sync="TRUE">0</atprecis>
				<attalias Sync="TRUE">Value</attalias>
				<attrtype Sync="TRUE">Integer</attrtype>
				<attscale Sync="TRUE">0</attscale>
				<attwidth Sync="TRUE">0</attwidth>
			</attr>
			<attr>
				<attrlabl Sync="TRUE">Count</attrlabl>
				<atprecis Sync="TRUE">0</atprecis>
				<attalias Sync="TRUE">Count</attalias>
				<attrtype Sync="TRUE">Integer</attrtype>
				<attscale Sync="TRUE">0</attscale>
				<attwidth Sync="TRUE">0</attwidth>
			</attr>
		</detailed>
		<detailed Name="Band_3">
			<enttyp Name="Band_3">
				<enttypl Sync="TRUE">Band_3</enttypl>
				<enttypc Sync="TRUE">256</enttypc>
				<enttypt Sync="TRUE">Table</enttypt>
			</enttyp>
			<attr>
				<attrlabl Sync="TRUE">ObjectID</attrlabl>
				<attrdef Sync="TRUE">Internal feature number.</attrdef>
				<attrdefs Name="Band_3">ESRI</attrdefs>
				<attrdomv Sync="TRUE">
					<udom Sync="TRUE">Sequential unique whole numbers that are automatically generated.</udom>
				</attrdomv>
				<atprecis Sync="TRUE">0</atprecis>
				<attalias Sync="TRUE">ObjectID</attalias>
				<attrtype Sync="TRUE">OID</attrtype>
				<attscale Sync="TRUE">0</attscale>
				<attwidth Sync="TRUE">4</attwidth>
			</attr>
			<attr>
				<attrlabl Sync="TRUE">Value</attrlabl>
				<atprecis Sync="TRUE">0</atprecis>
				<attalias Sync="TRUE">Value</attalias>
				<attrtype Sync="TRUE">Integer</attrtype>
				<attscale Sync="TRUE">0</attscale>
				<attwidth Sync="TRUE">0</attwidth>
			</attr>
			<attr>
				<attrlabl Sync="TRUE">Count</attrlabl>
				<atprecis Sync="TRUE">0</atprecis>
				<attalias Sync="TRUE">Count</attalias>
				<attrtype Sync="TRUE">Integer</attrtype>
				<attscale Sync="TRUE">0</attscale>
				<attwidth Sync="TRUE">0</attwidth>
			</attr>
		</detailed>
	</eainfo>
	<distinfo>
		<distrib Sync="TRUE">
			<cntinfo>
				<cntorgp Sync="TRUE">
					<cntorg>U.S. Geological Survey, Spokane Field Office</cntorg>
					<cntper>Michael L. Zientek</cntper>
				</cntorgp>
				<cntaddr>
					<addrtype Sync="TRUE">mailing and physical address</addrtype>
					<address Sync="TRUE">904 W. Riverside, Room 202</address>
					<city>Spokane</city>
					<state>WA</state>
					<postal>99201-1087</postal>
				</cntaddr>
				<cntvoice>(509) 368-3105</cntvoice>
				<cntemail>mzientek@usgs.gov</cntemail>
			</cntinfo>
		</distrib>
		<resdesc>DS 106</resdesc>
		<distliab>
The U.S. Geological Survey (USGS) provides these geographic data "as is". The USGS makes no guarantee or warranty concerning the accuracy of information contained in the geographic data. The USGS further makes no warranties, either expressed or implied as to any other matter whatsoever, including, without limitation, the condition of the product, or its fitness for any particular purpose. The burden for determining fitness for use lies entirely with the user. Although these data have been processed successfully on computers at the USGS, no warranty, expressed or implied, is made by the USGS regarding the use of these data on any other system, nor does the fact of distribution constitute or imply any such warranty. 
In no event shall the USGS have any liability whatsoever for payment of any consequential, incidental, indirect, special, or tort damages of any kind, including, but not limited to, any loss of profits arising out of use of or reliance on the geographic data or arising out of the delivery, installation, operation, or support by USGS. 

This digital geologic map image is not meant to be used or displayed at any scale larger than 1:125,000 (for example, 1:2,000).
</distliab>
		<stdorder>
			<digform>
				<digtinfo>
					<formname>MrSID</formname>
					<formvern>1.4</formvern>
					<formspec>The SID file contains the image data.  The SDW file contains the world file.  The AUX file contains auxiliary information such as map projection, pointer to pyramid file, etc.  The XML file contains the metadata describing the data set &lt;data set name&gt;.sid.xml.</formspec>
					<filedec>MrSID</filedec>
					<transize Sync="TRUE">19.569</transize>
					<dssize Sync="TRUE">19.569</dssize>
				</digtinfo>
			</digform>
		</stdorder>
		<custom>N/A</custom>
		<techpreq>Software that supports MrSID image format is required to use this data.</techpreq>
	</distinfo>
	<metainfo>
		<metd Sync="TRUE">20040915</metd>
		<metc>
			<cntinfo>
				<cntperp Sync="TRUE">
					<cntper>Jeremy C. Larsen</cntper>
					<cntorg>Information Systems Support (under contract to the U.S. Geological Survey)</cntorg>
				</cntperp>
				<cntpos>Contractor</cntpos>
				<cntaddr>
					<addrtype>mailing and physical address</addrtype>
					<address>904 W. Riverside, Room 202</address>
					<city>Spokane</city>
					<state>WA</state>
					<postal>99201</postal>
				</cntaddr>
				<cntvoice>(509) 368-3118</cntvoice>
				<cntemail>jlarsen@usgs.gov</cntemail>
			</cntinfo>
		</metc>
		<metstdn Sync="TRUE">FGDC Content Standards for Digital Geospatial Metadata</metstdn>
		<metstdv Sync="TRUE">FGDC-STD-001-1998</metstdv>
		<mettc Sync="TRUE">local time</mettc>
		<metac>none</metac>
		<metuc>none</metuc>
		<metextns>
			<onlink Sync="TRUE">http://www.esri.com/metadata/esriprof80.html</onlink>
			<metprof Sync="TRUE">ESRI Metadata Profile</metprof>
		</metextns>
		<langmeta Sync="TRUE">en</langmeta>
	</metainfo>
	<dataIdInfo>
		<envirDesc Sync="TRUE">Microsoft Windows 2000 Version 5.1 (Build 2600) Service Pack 1; ESRI ArcCatalog 8.3.0.800</envirDesc>
		<dataLang>
			<languageCode Sync="TRUE" value="en"></languageCode>
		</dataLang>
		<geoBox esriExtentType="decdegrees">
			<westBL esriExtentType="decdegrees">-110.179268</westBL>
			<eastBL Sync="TRUE">-108.945751</eastBL>
			<northBL Sync="TRUE">48.640108</northBL>
			<southBL Sync="TRUE">47.824</southBL>
			<exTypeCode Sync="TRUE">1</exTypeCode>
		</geoBox>
		<idCitation Sync="TRUE" value="en">
			<resTitle Sync="TRUE">Bearpaw_geo_rect.sid</resTitle>
			<presForm>
				<PresFormCd Sync="TRUE" value="005"></PresFormCd>
			</presForm>
		</idCitation>
		<spatRpType Sync="TRUE" value="005">
			<SpatRepTypCd Sync="TRUE" value="002"></SpatRepTypCd>
		</spatRpType>
		<dataExt Sync="TRUE" value="002">
			<geoEle>
				<GeoBndBox Sync="TRUE">
					<westBL esriExtentType="native">561415.055278</westBL>
					<northBL Sync="TRUE">5387565.97107</northBL>
					<southBL Sync="TRUE">5298500.335905</southBL>
					<eastBL Sync="TRUE" value="en">651379.031398</eastBL>
					<exTypeCode Sync="TRUE">1</exTypeCode>
				</GeoBndBox>
			</geoEle>
		</dataExt>
	</dataIdInfo>
	<distInfo>
		<distributor>
			<distorTran Sync="TRUE" value="en">
				<onLineSrc Sync="TRUE">
					<orDesc Sync="TRUE">002</orDesc>
					<protocol Sync="TRUE" value="004">Local Area Network</protocol>
					<linkage Sync="TRUE">file://\\Qsnap1\HWTRS\HW_RegionalGeology\Map_Images_Final\Report_working\OF04-xxx\GEOREFERENCED\Bearpaw_geo_rect.sid</linkage>
				</onLineSrc>
				<transSize Sync="TRUE" value="005">19.569</transSize>
			</distorTran>
			<distorFormat>
				<formatName Sync="TRUE">Raster Dataset</formatName>
			</distorFormat>
		</distributor>
	</distInfo>
	<Esri Sync="TRUE">
		<MetaID>{0FFCF226-CB93-48D4-B256-AA06E394D5BC}</MetaID>
		<ModDate>20040915</ModDate>
		<ModTime>08235000</ModTime>
		<SyncDate>20040811</SyncDate>
		<SyncOnce>FALSE</SyncOnce>
		<SyncTime Sync="TRUE">13231800</SyncTime>
		<CreaDate>20040607</CreaDate>
		<CreaTime>11240900</CreaTime>
	</Esri>
	<mdChar>
		<CharSetCd Sync="TRUE"></CharSetCd>
	</mdChar>
	<mdDateSt Sync="TRUE">20040915</mdDateSt>
	<mdHrLv Sync="TRUE" value="004">
		<ScopeCd Sync="TRUE"></ScopeCd>
	</mdHrLv>
	<mdHrLvName Sync="TRUE" value="005">dataset</mdHrLvName>
	<mdLang Sync="TRUE">
		<languageCode Sync="TRUE" value="en"></languageCode>
	</mdLang>
	<mdStanName Sync="TRUE" value="en">ISO 19115 Geographic Information - Metadata</mdStanName>
	<mdStanVer Sync="TRUE">DIS_ESRI1.0</mdStanVer>
	<refSysInfo>
		<RefSystem>
			<refSysID Sync="TRUE">
				<identCode Sync="TRUE">NAD_1927_UTM_Zone_12N</identCode>
			</refSysID>
		</RefSystem>
	</refSysInfo>
	<spatRepInfo>
		<GridSpatRep Sync="TRUE">
			<numDims Sync="TRUE">2</numDims>
			<tranParaAv Sync="TRUE" value="002">1</tranParaAv>
			<axDimProps>
				<Dimen>
					<dimName Sync="TRUE">
						<DimNameTypCd Sync="TRUE" value="002"></DimNameTypCd>
					</dimName>
					<dimResol Sync="TRUE">10.82339</dimResol>
					<dimSize Sync="TRUE" value="002">8312</dimSize>
				</Dimen>
				<Dimen>
					<dimName>
						<DimNameTypCd Sync="TRUE" value="001"></DimNameTypCd>
					</dimName>
					<dimResol Sync="TRUE">10.82339</dimResol>
					<dimSize Sync="TRUE" value="001">8229</dimSize>
				</Dimen>
			</axDimProps>
			<cellGeo>
				<CellGeoCd Sync="TRUE" value="002"></CellGeoCd>
			</cellGeo>
		</GridSpatRep>
	</spatRepInfo>
</metadata>
