<?xml version="1.0" encoding="ISO-8859-1"?>
<metadata>
	<idinfo>
		<citation>
			<citeinfo>
				<origin>Larsen, J.C.</origin>
				<origin>Assmus, K.C.</origin>
				<origin>Causey, J.D.</origin>
				<origin>Zientek, M.L.</origin>
				<pubdate>2004</pubdate>
				<title>Rectified images of selected geologic maps of the northern Rockies area, Idaho, Montana, Washington, and Wyoming</title>
				<geoform Sync="TRUE">raster digital data</geoform>
				<serinfo>
					<sername>U.S. Geological Survey Data Series</sername>
					<issue>DS 106</issue>
				</serinfo>
				<pubinfo>
					<pubplace>Menlo Park, CA</pubplace>
					<publish>U.S. Geological Survey</publish>
				</pubinfo>
			</citeinfo>
		</citation>
		<descript Sync="TRUE">
			<abstract>This rectified map image was created for the purpose of directly comparing an image of the original geologic map with other geospatial information.  The rectified image includes the map and coordinate labels; titles, text, explanations, cross sections, and collar information were cropped.</abstract>
			<purpose>This rectified image was created to allow the direct comparison of a published geologic map with other geospatial information in a geographic information system.  The rectified image can be compared to vector representations of the same map to ensure that features are coded correctly and that all geologic information on the published map was captured in the vector files.  The image also quickly illustrates how the author intended to symbolize the map.</purpose>
			<supplinf>blkfeet_bed_rect.sid is a rectified (georeferenced) MrSID image format file that was derived from an unpublished rectified TIFF image format file which, in turn, was created by scanning a paper copy of the original map by Cannon (1996).</supplinf>
		</descript>
		<timeperd Sync="TRUE">
			<timeinfo>
				<sngdate Sync="TRUE">
					<caldate>1996</caldate>
				</sngdate>
			</timeinfo>
			<current>Publication date of original map</current>
		</timeperd>
		<status>
			<progress>Complete</progress>
			<update>None planned</update>
		</status>
		<spdom Sync="TRUE">
			<bounding Sync="TRUE">
				<westbc Sync="TRUE">-113.622991</westbc>
				<eastbc Sync="TRUE">-112.207231</eastbc>
				<northbc Sync="TRUE">49.026113</northbc>
				<southbc Sync="TRUE">48.137318</southbc>
			</bounding>
			<lboundng Sync="TRUE">
				<leftbc Sync="TRUE">308161.754080</leftbc>
				<rightbc Sync="TRUE">410222.549772</rightbc>
				<topbc Sync="TRUE">5430866.139933</topbc>
				<bottombc Sync="TRUE">5334559.734262</bottombc>
			</lboundng>
		</spdom>
		<keywords>
			<theme>
				<themekt>None</themekt>
				<themekey>geologic map</themekey>
				<themekey>rectified raster image</themekey>
				<themekey>digital image</themekey>
				<themekey>georeferenced image</themekey>
			</theme>
			<place>
				<placekey>Blackfeet Indian Reservation</placekey>
				<placekey>Montana</placekey>
				<placekey>USA</placekey>
			</place>
		</keywords>
		<accconst>none</accconst>
		<useconst>This digital image is not meant to be used or displayed at any scale larger than 1:125,000 (for example, 1:2,000).</useconst>
		<ptcontac>
			<cntinfo>
				<cntperp>
					<cntper>Michael L. Zientek</cntper>
					<cntorg>U.S. Geological Survey</cntorg>
				</cntperp>
				<cntpos>Geologist</cntpos>
				<cntaddr>
					<addrtype>mailing and physical address</addrtype>
					<address>904 W. Riverside, Room 202</address>
					<city Sync="TRUE">Spokane</city>
					<state Sync="TRUE">WA</state>
					<postal>99201-1087</postal>
				</cntaddr>
				<cntvoice>(509) 368-3105</cntvoice>
				<cntemail>mzientek@usgs.gov</cntemail>
			</cntinfo>
		</ptcontac>
		<datacred>N/A</datacred>
		<native>Microsoft Windows 2000 Version 5.0 (Build 2195) Service Pack 4; ESRI ArcGIS 8.1; Adobe Photoshop Elements 2.0; LizardTech Geospatial Encoder 1.4; 3001, Inc. RAster Georeference Enabler (RAGE) tool 1.1.17.</native>
		<natvform Sync="TRUE">Raster Dataset</natvform>
	</idinfo>
	<dataqual Sync="TRUE">
		<complete>The title, text, explanation, cross section, index maps and collar information of the original data source map are cropped or partially cropped in the georeferenced MrSID image.</complete>
		<posacc>
			<horizpa>
				<horizpar>The rectified image was tested to ensure it was projected and georeferenced properly by overlying it with a latitude and longitude tic points coverage (tic120602utm) that was mathematically generated using ARC/INFO.  At the scale of publication, reference points on image coincided with corresponding reference points of the tic file.</horizpar>
			</horizpa>
			<vertacc>
				<vertaccr>N/A</vertaccr>
			</vertacc>
		</posacc>
		<lineage>
			<srcinfo>
				<srccite>
					<citeinfo>
						<origin>Cannon, M.R.</origin>
						<pubdate>1996</pubdate>
						<title>Geology and ground-water resources of the Blackfeet Indian Reservation, northwestern Montana</title>
						<geoform>map</geoform>
						<serinfo>
							<sername>U.S. Geological Survey Hydrologic Investigation Atlas</sername>
							<issue>HA-0737</issue>
						</serinfo>
						<pubinfo>
							<pubplace>Reston, VA</pubplace>
							<publish>U.S. Geological Survey</publish>
						</pubinfo>
						<othercit>Sheet 2 of 2</othercit>
					</citeinfo>
				</srccite>
				<srcscale>125000</srcscale>
				<typesrc>paper</typesrc>
				<srctime>
					<timeinfo>
						<sngdate>
							<caldate Sync="TRUE">1996</caldate>
						</sngdate>
					</timeinfo>
					<srccurr>publication date</srccurr>
				</srctime>
				<srccitea>Cannon (1996)</srccitea>
				<srccontr>The full map extent of the original paper map and marginal coordinate information, excluding the title, explanation, cross-sections, index maps, and other collar information, was used in this data set.</srccontr>
			</srcinfo>
			<procstep>
				<procdesc Sync="TRUE">The original map was scanned and saved as a 300 dpi, 24-bit color TIFF image using a Colscan scanner at the TeckCominco Spokane Office.  The scanned TIFF image was cropped to include the map and marginal coordinate information.  The resulting TIFF image was rotated and color balanced using Adobe Photoshop Elements 2.0.  A tic file coverage of UTM projected latitude and longitude coordinate points (tic120602utm) were used to rectify the image with ArcMap 8.1.   Latitude and longitude intersections displayed on the TIFF image were tied to their respective locations (tics) in the tic120602utm coverage.  The rectified TIFF was then opened in LizardTech Geospatial Encoder 1.4 and converted to MrSID image format using a 10:1 compression ratio.  The resulting files include the image data (*.sid) and a world file (*.sdw).  ArcGIS did not recognize coordinate information for these files, so 3001 Inc.'s RAster Georeference Enabler (RAGE) tool was used to associate coordinate information with the MrSID image.  The RAGE tool is available from URL = http://www.3001data.com/3001website/main/downloads_files/rage/geotiff_header_repair.htm.</procdesc>
				<procdate Sync="TRUE">2003</procdate>
				<srcused>Cannon (1996)</srcused><srcprod>Blkfeet_bed_rect.sid</srcprod></procstep>
		</lineage>
	</dataqual>
	<spdoinfo Sync="TRUE">
		<direct Sync="TRUE">Raster</direct>
		<rastinfo Sync="TRUE">
			<rasttype Sync="TRUE">Pixel</rasttype>
			<rowcount Sync="TRUE">9071</rowcount>
			<colcount Sync="TRUE">9613</colcount>
			<vrtcount Sync="TRUE">1</vrtcount>
			<rastband Sync="TRUE">3</rastband>
			<rastbpp Sync="TRUE">8</rastbpp>
			<rastcmap Sync="TRUE">FALSE</rastcmap>
			<rastcomp Sync="TRUE">Wavelet</rastcomp>
			<rastdtyp Sync="TRUE">pixel codes</rastdtyp>
			<rastifor Sync="TRUE">MrSID</rastifor>
			<rastorig Sync="TRUE">Upper Left</rastorig>
			<rastplyr Sync="TRUE">TRUE</rastplyr>
			<rastxsz Sync="TRUE">10.616956</rastxsz>
			<rastysz Sync="TRUE">10.616956</rastysz>
		</rastinfo>
	</spdoinfo>
	<spref Sync="TRUE">
		<horizsys>
			<planar Sync="TRUE">
				<gridsys Sync="TRUE">
					<gridsysn Sync="TRUE">Universal Transverse Mercator</gridsysn>
					<utm Sync="TRUE">
						<utmzone Sync="TRUE">12</utmzone>
						<transmer Sync="TRUE">
							<sfctrmer Sync="TRUE">0.999600</sfctrmer>
							<longcm Sync="TRUE">-111.000000</longcm>
							<latprjo Sync="TRUE">0.000000</latprjo>
							<feast Sync="TRUE">500000.000000</feast>
							<fnorth Sync="TRUE">0.000000</fnorth>
						</transmer>
					</utm>
				</gridsys>
				<planci Sync="TRUE">
					<plance Sync="TRUE">row and column</plance>
					<coordrep Sync="TRUE">
						<absres Sync="TRUE">10.616956</absres>
						<ordres Sync="TRUE">10.616956</ordres>
					</coordrep>
					<plandu Sync="TRUE">meters</plandu>
				</planci>
			</planar>
			<geodetic Sync="TRUE">
				<horizdn Sync="TRUE">North American Datum of 1927</horizdn>
				<ellips Sync="TRUE">Clarke 1866</ellips>
				<semiaxis Sync="TRUE">6378206.400000</semiaxis>
				<denflat Sync="TRUE">294.978698</denflat>
			</geodetic>
			<cordsysn Sync="TRUE">
				<geogcsn Sync="TRUE">GCS_North_American_1927</geogcsn>
				<projcsn Sync="TRUE">NAD_1927_UTM_Zone_12N</projcsn>
			</cordsysn>
		</horizsys>
	</spref>
	<eainfo Name="Band_1">
		<detailed Name="Band_1">
			<enttyp Sync="TRUE">
				<enttypl Sync="TRUE">Band_1</enttypl>
				<enttypc Sync="TRUE">256</enttypc>
				<enttypt Sync="TRUE">Table</enttypt>
			</enttyp>
			<attr Sync="TRUE">
				<attrlabl Sync="TRUE">ObjectID</attrlabl>
				<attrdef Sync="TRUE">Internal feature number.</attrdef>
				<attrdefs Sync="TRUE">ESRI</attrdefs>
				<attrdomv Sync="TRUE">
					<udom Sync="TRUE">Sequential unique whole numbers that are automatically generated.</udom>
				</attrdomv>
				<atprecis Sync="TRUE">0</atprecis>
				<attalias Sync="TRUE">ObjectID</attalias>
				<attrtype Sync="TRUE">OID</attrtype>
				<attscale Sync="TRUE">0</attscale>
				<attwidth Sync="TRUE">4</attwidth>
			</attr>
			<attr Sync="TRUE">
				<attrlabl Sync="TRUE">Value</attrlabl>
				<atprecis Sync="TRUE">0</atprecis>
				<attalias Sync="TRUE">Value</attalias>
				<attrtype Sync="TRUE">Integer</attrtype>
				<attscale Sync="TRUE">0</attscale>
				<attwidth Sync="TRUE">0</attwidth>
			</attr>
			<attr Sync="TRUE">
				<attrlabl Sync="TRUE">Count</attrlabl>
				<atprecis Sync="TRUE">0</atprecis>
				<attalias Sync="TRUE">Count</attalias>
				<attrtype Sync="TRUE">Integer</attrtype>
				<attscale Sync="TRUE">0</attscale>
				<attwidth Sync="TRUE">0</attwidth>
			</attr>
		</detailed>
		<detailed Name="Band_2">
			<enttyp Sync="TRUE">
				<enttypl Sync="TRUE">Band_2</enttypl>
				<enttypc Sync="TRUE">256</enttypc>
				<enttypt Sync="TRUE">Table</enttypt>
			</enttyp>
			<attr Sync="TRUE">
				<attrlabl Sync="TRUE">ObjectID</attrlabl>
				<attrdef Sync="TRUE">Internal feature number.</attrdef>
				<attrdefs Sync="TRUE">ESRI</attrdefs>
				<attrdomv Sync="TRUE">
					<udom Sync="TRUE">Sequential unique whole numbers that are automatically generated.</udom>
				</attrdomv>
				<atprecis Sync="TRUE">0</atprecis>
				<attalias Sync="TRUE">ObjectID</attalias>
				<attrtype Sync="TRUE">OID</attrtype>
				<attscale Sync="TRUE">0</attscale>
				<attwidth Sync="TRUE">4</attwidth>
			</attr>
			<attr Sync="TRUE">
				<attrlabl Sync="TRUE">Value</attrlabl>
				<atprecis Sync="TRUE">0</atprecis>
				<attalias Sync="TRUE">Value</attalias>
				<attrtype Sync="TRUE">Integer</attrtype>
				<attscale Sync="TRUE">0</attscale>
				<attwidth Sync="TRUE">0</attwidth>
			</attr>
			<attr Sync="TRUE">
				<attrlabl Sync="TRUE">Count</attrlabl>
				<atprecis Sync="TRUE">0</atprecis>
				<attalias Sync="TRUE">Count</attalias>
				<attrtype Sync="TRUE">Integer</attrtype>
				<attscale Sync="TRUE">0</attscale>
				<attwidth Sync="TRUE">0</attwidth>
			</attr>
		</detailed>
		<detailed Name="Band_3">
			<enttyp Sync="TRUE">
				<enttypl Sync="TRUE">Band_3</enttypl>
				<enttypc Sync="TRUE">256</enttypc>
				<enttypt Sync="TRUE">Table</enttypt>
			</enttyp>
			<attr Sync="TRUE">
				<attrlabl Sync="TRUE">ObjectID</attrlabl>
				<attrdef Sync="TRUE">Internal feature number.</attrdef>
				<attrdefs Sync="TRUE">ESRI</attrdefs>
				<attrdomv Sync="TRUE">
					<udom Sync="TRUE">Sequential unique whole numbers that are automatically generated.</udom>
				</attrdomv>
				<atprecis Sync="TRUE">0</atprecis>
				<attalias Sync="TRUE">ObjectID</attalias>
				<attrtype Sync="TRUE">OID</attrtype>
				<attscale Sync="TRUE">0</attscale>
				<attwidth Sync="TRUE">4</attwidth>
			</attr>
			<attr Sync="TRUE">
				<attrlabl Sync="TRUE">Value</attrlabl>
				<atprecis Sync="TRUE">0</atprecis>
				<attalias Sync="TRUE">Value</attalias>
				<attrtype Sync="TRUE">Integer</attrtype>
				<attscale Sync="TRUE">0</attscale>
				<attwidth Sync="TRUE">0</attwidth>
			</attr>
			<attr Sync="TRUE">
				<attrlabl Sync="TRUE">Count</attrlabl>
				<atprecis Sync="TRUE">0</atprecis>
				<attalias Sync="TRUE">Count</attalias>
				<attrtype Sync="TRUE">Integer</attrtype>
				<attscale Sync="TRUE">0</attscale>
				<attwidth Sync="TRUE">0</attwidth>
			</attr>
		</detailed>
	</eainfo>
	<distinfo Sync="TRUE">
		<distrib>
			<cntinfo Sync="TRUE">
				<cntorgp>
					<cntorg Sync="TRUE">U.S. Geological Survey, Spokane Field Office</cntorg>
					<cntper Sync="TRUE">Michael L. Zientek</cntper>
				</cntorgp>
				<cntaddr Sync="TRUE">
					<addrtype>mailing and physical address</addrtype>
					<address>904 W. Riverside, Room 202</address>
					<city>Spokane</city>
					<state>WA</state>
					<postal>99201-1087</postal>
				</cntaddr>
				<cntvoice>(509) 368-3105</cntvoice>
				<cntemail>mzientek@usgs.gov</cntemail>
			</cntinfo>
		</distrib>
		<resdesc>DS 106</resdesc>
		<distliab>
The U.S. Geological Survey (USGS) provides these geographic data "as is". The USGS makes no guarantee or warranty concerning the accuracy of information contained in the geographic data. The USGS further makes no warranties, either expressed or implied as to any other matter whatsoever, including, without limitation, the condition of the product, or its fitness for any particular purpose. The burden for determining fitness for use lies entirely with the user. Although these data have been processed successfully on computers at the USGS, no warranty, expressed or implied, is made by the USGS regarding the use of these data on any other system, nor does the fact of distribution constitute or imply any such warranty. 
In no event shall the USGS have any liability whatsoever for payment of any consequential, incidental, indirect, special, or tort damages of any kind, including, but not limited to, any loss of profits arising out of use of or reliance on the geographic data or arising out of the delivery, installation, operation, or support by USGS. 

This digital geologic map image is not meant to be used or displayed at any scale larger than 1:125,000 (for example, 1:2,000).
</distliab>
		<stdorder>
			<digform>
				<digtinfo>
					<formname>MrSID</formname>
					<formvern>1.4</formvern>
					<formspec>The SID file contains the image data.  The SDW file contains the world file.  The AUX file contains auxiliary information such as map projection, pointer to pyramid file, etc.  The XML file contains the metadata describing the data set &lt;data set name&gt;.sid.xml.</formspec>
					<filedec Sync="TRUE">MrSID</filedec>
					<transize Sync="TRUE">18.384</transize>
					<dssize Sync="TRUE">18.384</dssize>
				</digtinfo>
			</digform>
		</stdorder>
		<custom>N/A</custom>
		<techpreq>Software that supports MrSID image format is required to use this data.</techpreq>
	</distinfo>
	<metainfo Sync="TRUE">
		<metd Sync="TRUE">20040915</metd>
		<metc>
			<cntinfo Sync="TRUE">
				<cntperp>
					<cntper Sync="TRUE">Jeremy C. Larsen</cntper>
					<cntorg>Information Systems Support (under contract to the U.S. Geological Survey)</cntorg>
				</cntperp>
				<cntpos>Contractor</cntpos>
				<cntaddr>
					<addrtype Sync="TRUE">mailing and physical address</addrtype>
					<address Sync="TRUE">904 W. Riverside, Room 202</address>
					<city Sync="TRUE">Spokane</city>
					<state>WA</state>
					<postal>99201</postal>
				</cntaddr>
				<cntvoice Sync="TRUE">(509) 368-3118</cntvoice>
				<cntemail Sync="TRUE">jlarsen@usgs.gov</cntemail>
			</cntinfo>
		</metc>
		<metstdn Sync="TRUE">FGDC Content Standards for Digital Geospatial Metadata</metstdn>
		<metstdv Sync="TRUE">FGDC-STD-001-1998</metstdv>
		<mettc Sync="TRUE">local time</mettc>
		<metac>none</metac>
		<metuc>none</metuc>
		<metextns Sync="TRUE">
			<onlink Sync="TRUE">http://www.esri.com/metadata/esriprof80.html</onlink>
			<metprof Sync="TRUE">ESRI Metadata Profile</metprof>
		</metextns>
		<langmeta Sync="TRUE">en</langmeta>
	</metainfo>
	<dataIdInfo Sync="TRUE">
		<envirDesc Sync="TRUE">Microsoft Windows 2000 Version 5.1 (Build 2600) Service Pack 1; ESRI ArcCatalog 8.3.0.800</envirDesc>
		<dataLang Sync="TRUE" value="en">
			<languageCode Sync="TRUE" value="en"></languageCode>
		</dataLang>
		<geoBox esriExtentType="decdegrees">
			<westBL Sync="TRUE">-113.622991</westBL>
			<eastBL Sync="TRUE">-112.207231</eastBL>
			<northBL Sync="TRUE">49.026113</northBL>
			<southBL Sync="TRUE">48.137318</southBL>
			<exTypeCode Sync="TRUE">1</exTypeCode>
		</geoBox>
		<idCitation Sync="TRUE">
			<resTitle Sync="TRUE">Blkfeet_bed_rect.sid</resTitle>
			<presForm Sync="TRUE" value="005">
				<PresFormCd Sync="TRUE" value="005"></PresFormCd>
			</presForm>
		</idCitation>
		<spatRpType Sync="TRUE" value="002">
			<SpatRepTypCd Sync="TRUE" value="002"></SpatRepTypCd>
		</spatRpType>
		<dataExt>
			<geoEle Sync="TRUE">
				<GeoBndBox esriExtentType="native">
					<westBL Sync="TRUE">308161.75408</westBL>
					<northBL Sync="TRUE">5430866.139933</northBL>
					<southBL Sync="TRUE">5334559.734262</southBL>
					<eastBL Sync="TRUE">410222.549772</eastBL>
					<exTypeCode Sync="TRUE">1</exTypeCode>
				</GeoBndBox>
			</geoEle>
		</dataExt>
	</dataIdInfo>
	<distInfo>
		<distributor Sync="TRUE" value="en">
			<distorTran Sync="TRUE">
				<onLineSrc Sync="TRUE">
					<orDesc Sync="TRUE">002</orDesc>
					<protocol Sync="TRUE">Local Area Network</protocol>
					<linkage Sync="TRUE">file://\\Qsnap1\HWTRS\HW_RegionalGeology\Map_Images_Final\Report_working\OF04-xxx\GEOREFERENCED\Blkfeet_bed_rect.sid</linkage>
				</onLineSrc>
				<transSize Sync="TRUE">18.384</transSize>
			</distorTran>
			<distorFormat Sync="TRUE">
				<formatName Sync="TRUE">Raster Dataset</formatName>
			</distorFormat>
		</distributor>
	</distInfo>
	<Esri>
		<MetaID Sync="TRUE">{5F466C6F-4954-4472-9F80-2156E5BBACEE}</MetaID>
		<ModDate>20040915</ModDate>
		<ModTime>08411100</ModTime>
		<SyncDate>20040811</SyncDate>
		<SyncOnce>FALSE</SyncOnce>
		<SyncTime>13235900</SyncTime>
		<CreaDate Sync="TRUE" value="en">20030922</CreaDate>
		<CreaTime Sync="TRUE">13590200</CreaTime>
	</Esri>
	<mdChar Sync="TRUE">
		<CharSetCd Sync="TRUE" value="004"></CharSetCd>
	</mdChar>
	<mdDateSt Sync="TRUE">20040915</mdDateSt>
	<mdHrLv Sync="TRUE">
		<ScopeCd Sync="TRUE" value="005"></ScopeCd>
	</mdHrLv>
	<mdHrLvName Sync="TRUE">dataset</mdHrLvName>
	<mdLang Sync="TRUE" value="en">
		<languageCode Sync="TRUE" value="en"></languageCode>
	</mdLang>
	<mdStanName Sync="TRUE">ISO 19115 Geographic Information - Metadata</mdStanName>
	<mdStanVer Sync="TRUE">DIS_ESRI1.0</mdStanVer>
	<refSysInfo>
		<RefSystem Sync="TRUE">
			<refSysID Sync="TRUE">
				<identCode Sync="TRUE">NAD_1927_UTM_Zone_12N</identCode>
			</refSysID>
		</RefSystem>
	</refSysInfo>
	<spatRepInfo Sync="TRUE">
		<GridSpatRep Sync="TRUE">
			<numDims Sync="TRUE">2</numDims>
			<tranParaAv Sync="TRUE">1</tranParaAv>
			<axDimProps Sync="TRUE">
				<Dimen Sync="TRUE">
					<dimName Sync="TRUE" value="002">
						<DimNameTypCd Sync="TRUE" value="002"></DimNameTypCd>
					</dimName>
					<dimResol Sync="TRUE">10.61696</dimResol>
					<dimSize Sync="TRUE">9613</dimSize>
				</Dimen>
				<Dimen Sync="TRUE">
					<dimName Sync="TRUE" value="001">
						<DimNameTypCd Sync="TRUE" value="001"></DimNameTypCd>
					</dimName>
					<dimResol Sync="TRUE">10.61696</dimResol>
					<dimSize Sync="TRUE">9071</dimSize>
				</Dimen>
			</axDimProps>
			<cellGeo Sync="TRUE" value="002">
				<CellGeoCd Sync="TRUE" value="002"></CellGeoCd>
			</cellGeo>
		</GridSpatRep>
	</spatRepInfo>
</metadata>
