12.409311406549902
0.0
0.0
-12.409311406549902
360107.54133749264
5175440.0052428842
