<?xml version="1.0" encoding="ISO-8859-1"?>
<metadata>
	<idinfo>
		<citation>
			<citeinfo>
				<origin>Larsen, J.C.</origin>
				<origin>Assmus, K.C.</origin>
				<origin Sync="TRUE">Causey, J.D.</origin>
				<origin>Zientek, M.L.</origin>
				<pubdate Sync="TRUE">2004</pubdate>
				<title>Rectified images of selected geologic maps of the northern Rockies area, Idaho, Montana, Washington, and Wyoming</title>
				<geoform>raster digital data</geoform>
				<serinfo Sync="TRUE">
					<sername>U.S. Geological Survey Data Series</sername>
					<issue>DS 106</issue>
				</serinfo>
				<pubinfo>
					<pubplace>Menlo Park, CA</pubplace>
					<publish Sync="TRUE">U.S. Geological Survey</publish>
				</pubinfo>
			</citeinfo>
		</citation>
		<descript Sync="TRUE">
			<abstract Sync="TRUE">This rectified map image was created for the purpose of directly comparing an image of the original geologic map with other geospatial information.  The rectified image includes the map and coordinate labels; titles, text, explanations, cross sections, and collar information were cropped.</abstract>
			<purpose Sync="TRUE">This rectified image was created to allow the direct comparison of a published geologic map with other geospatial information in a geographic information system.  The rectified image can be compared to vector representations of the same map to ensure that features are coded correctly and that all geologic information on the published map was captured in the vector files.  The image also quickly illustrates how the author intended to symbolize the map.</purpose>
			<supplinf Sync="TRUE">BoulderBath_rect.tif is a rectified (georeferenced) TIFF image format file that was derived from a scanned  paper copy of the original map by Smedes and others (1988).</supplinf>
			<langdata Sync="TRUE">en</langdata>
		</descript>
		<timeperd Sync="TRUE">
			<timeinfo>
				<sngdate Sync="TRUE">
					<caldate Sync="TRUE">1988</caldate>
				</sngdate>
			</timeinfo>
			<current Sync="TRUE">Publication date of original map</current>
		</timeperd>
		<status Sync="TRUE">
			<progress>Complete</progress>
			<update>None planned</update>
		</status>
		<spdom Sync="TRUE">
			<bounding Sync="TRUE">
				<westbc Sync="TRUE">-112.830570</westbc>
				<eastbc Sync="TRUE">-111.458960</eastbc>
				<northbc Sync="TRUE">46.733576</northbc>
				<southbc Sync="TRUE">45.602702</southbc>
			</bounding>
			<lboundng Sync="TRUE">
				<leftbc Sync="TRUE">360101.336682</leftbc>
				<rightbc Sync="TRUE">464215.459383</rightbc>
				<topbc Sync="TRUE">5175446.209899</topbc>
				<bottombc Sync="TRUE">5051253.821342</bottombc>
			</lboundng>
		</spdom>
		<keywords>
			<theme>
				<themekt>None</themekt>
				<themekey>geologic map</themekey>
				<themekey>rectified raster image</themekey>
				<themekey>digital image</themekey>
				<themekey>georeferenced image</themekey>
			</theme>
			<place>
				<placekey>Boulder Batholith</placekey>
				<placekey>Montana</placekey>
				<placekey Sync="TRUE">USA</placekey>
			</place>
		</keywords>
		<accconst Sync="TRUE">none</accconst>
		<useconst>This digital image is not meant to be used or displayed at any scale larger than 1:200,000 (for example, 1:2,000).</useconst>
		<ptcontac>
			<cntinfo>
				<cntperp>
					<cntper>Michael L. Zientek</cntper>
					<cntorg>U.S. Geological Survey</cntorg>
				</cntperp>
				<cntpos>Geologist</cntpos>
				<cntaddr>
					<addrtype Sync="TRUE">mailing and physical address</addrtype>
					<address>904 W. Riverside, Room 202</address>
					<city Sync="TRUE">Spokane</city>
					<state Sync="TRUE">WA</state>
					<postal>99201-1087</postal>
				</cntaddr>
				<cntvoice>(509) 368-3105</cntvoice>
				<cntemail>mzientek@usgs.gov</cntemail>
			</cntinfo>
		</ptcontac>
		<datacred>N/A</datacred>
		<native>Microsoft Windows 2000 Version 5.0 (Build 2195) Service Pack 4; ESRI ArcGIS 8.1; Adobe Photoshop Elements 2.0.</native>
		<natvform Sync="TRUE">Raster Dataset</natvform>
	</idinfo>
	<dataqual Sync="TRUE">
		<complete>The title, text, explanation, cross section, index maps and collar information of the original data source map are cropped or partially cropped in the georeferenced TIFF image.</complete>
		<posacc>
			<horizpa>
				<horizpar>BoulderBath_rect.tif was tested to ensure it was projected and georeferenced properly by overlying it with rectified digital raster graphic (DRG) images of the map area.  At the scale of publication, latitude and longitude intersection points on the TIFF coincided with corresponding latitude and longitude intersection points on the DRG's.</horizpar>
			</horizpa>
			<vertacc>
				<vertaccr>N/A</vertaccr>
			</vertacc>
		</posacc>
		<lineage>
			<srcinfo>
				<srccite>
					<citeinfo>
						<origin>Smedes, H.W.</origin>
						<origin Sync="TRUE">Klepper, M.R.</origin>
						<origin Sync="TRUE">Tilling, R.I.</origin>
						<pubdate>1988</pubdate>
						<title>Preliminary map of plutonic units of the Boulder Batholith, southwestern Montana</title>
						<geoform>map</geoform>
						<serinfo>
							<sername>U.S. Geological Survey Open-File Report</sername>
							<issue>88-283</issue>
						</serinfo>
						<pubinfo>
							<pubplace>Reston, VA</pubplace>
							<publish Sync="TRUE">U.S. Geological Survey</publish>
						</pubinfo>
					</citeinfo>
				</srccite>
				<srcscale>200000</srcscale>
				<typesrc Sync="TRUE">paper</typesrc>
				<srctime Sync="TRUE">
					<timeinfo Sync="TRUE">
						<sngdate Sync="TRUE">
							<caldate>1988</caldate>
						</sngdate>
					</timeinfo>
					<srccurr>publication date</srccurr>
				</srctime>
				<srccitea>Smedes and others (1988)</srccitea>
				<srccontr>The full map extent of the original paper map and marginal coordinate information, excluding the title, explanation, cross-sections, index maps, and other collar information, was used in this data set.</srccontr>
			</srcinfo>
			<procstep>
				<procdesc Sync="TRUE">The original black and white map was scanned and saved as a 400 dpi, 8-bit grayscale TIFF image at Abadan Reprographics.  The scanned TIFF image was cropped to include the map and marginal coordinate information.  The resulting TIFF image was rotated using Adobe Photoshop Elements 2.0.  A GeoTIFF digital raster graphics (DRG) of the Butte 1:250,000-scale quadrangle and the White Sulpher Springs 1:250,000-scale were used to georeference the image using ArcMap 8.1.  Latitude and longitude intersection points on the TIFF were tied to corresponding latitude and longitude intersection points on the DRG's</procdesc>
				<procdate Sync="TRUE">2002-2003</procdate>
				<srcused>Smedes and others (1988)</srcused><srcprod>BoulderBath_rect.tif</srcprod></procstep>
		</lineage>
	</dataqual>
	<spdoinfo Sync="TRUE">
		<direct Sync="TRUE">Raster</direct>
		<rastinfo Sync="TRUE">
			<rasttype Sync="TRUE">Pixel</rasttype>
			<rowcount Sync="TRUE">10008</rowcount>
			<colcount Sync="TRUE">8390</colcount>
			<vrtcount Sync="TRUE">1</vrtcount>
			<rastband Sync="TRUE">1</rastband>
			<rastbpp Sync="TRUE">1</rastbpp>
			<rastcmap Sync="TRUE">FALSE</rastcmap>
			<rastcomp Sync="TRUE">None</rastcomp>
			<rastdtyp Sync="TRUE">pixel codes</rastdtyp>
			<rastifor Sync="TRUE">TIFF</rastifor>
			<rastorig Sync="TRUE">Upper Left</rastorig>
			<rastplyr Sync="TRUE">TRUE</rastplyr>
			<rastxsz Sync="TRUE">12.409311</rastxsz>
			<rastysz Sync="TRUE">12.409311</rastysz>
		</rastinfo>
	</spdoinfo>
	<spref Sync="TRUE">
		<horizsys Sync="TRUE">
			<planar Sync="TRUE">
				<gridsys Sync="TRUE">
					<gridsysn Sync="TRUE">Universal Transverse Mercator</gridsysn>
					<utm>
						<utmzone Sync="TRUE">12</utmzone>
						<transmer Sync="TRUE">
							<sfctrmer Sync="TRUE">0.999600</sfctrmer>
							<longcm Sync="TRUE">-111.000000</longcm>
							<latprjo Sync="TRUE">0.000000</latprjo>
							<feast Sync="TRUE">500000.000000</feast>
							<fnorth Sync="TRUE">0.000000</fnorth>
						</transmer>
					</utm>
				</gridsys>
				<planci Sync="TRUE">
					<plance Sync="TRUE">row and column</plance>
					<coordrep Sync="TRUE">
						<absres Sync="TRUE">12.409311</absres>
						<ordres Sync="TRUE">12.409311</ordres>
					</coordrep>
					<plandu Sync="TRUE">meters</plandu>
				</planci>
			</planar>
			<geodetic Sync="TRUE">
				<horizdn Sync="TRUE">North American Datum of 1927</horizdn>
				<ellips Sync="TRUE">Clarke 1866</ellips>
				<semiaxis Sync="TRUE">6378206.400000</semiaxis>
				<denflat Sync="TRUE">294.978698</denflat>
			</geodetic>
			<cordsysn Sync="TRUE">
				<geogcsn Sync="TRUE">GCS_North_American_1927</geogcsn>
				<projcsn Name="Band_1">NAD_1927_UTM_Zone_12N</projcsn>
			</cordsysn>
		</horizsys>
	</spref>
	<eainfo Sync="TRUE">
		<detailed Sync="TRUE">
			<enttyp Sync="TRUE">
				<enttypl Sync="TRUE">Band_1</enttypl>
				<enttypc Sync="TRUE">2</enttypc>
				<enttypt Sync="TRUE">Table</enttypt>
			</enttyp>
			<attr Sync="TRUE">
				<attrlabl Sync="TRUE">ObjectID</attrlabl>
				<attrdef Sync="TRUE">Internal feature number.</attrdef>
				<attrdefs Sync="TRUE">ESRI</attrdefs>
				<attrdomv Sync="TRUE">
					<udom Sync="TRUE">Sequential unique whole numbers that are automatically generated.</udom>
				</attrdomv>
				<atprecis Sync="TRUE">0</atprecis>
				<attalias Sync="TRUE">ObjectID</attalias>
				<attrtype Sync="TRUE">OID</attrtype>
				<attscale Sync="TRUE">0</attscale>
				<attwidth Sync="TRUE">4</attwidth>
			</attr>
			<attr Sync="TRUE">
				<attrlabl Sync="TRUE">Value</attrlabl>
				<atprecis Sync="TRUE">0</atprecis>
				<attalias Sync="TRUE">Value</attalias>
				<attrtype Sync="TRUE">Integer</attrtype>
				<attscale Sync="TRUE">0</attscale>
				<attwidth Sync="TRUE">0</attwidth>
			</attr>
			<attr Sync="TRUE">
				<attrlabl Sync="TRUE">Count</attrlabl>
				<atprecis Sync="TRUE">0</atprecis>
				<attalias Sync="TRUE">Count</attalias>
				<attrtype Sync="TRUE">Double</attrtype>
				<attscale Name="Band_2">0</attscale>
				<attwidth Sync="TRUE">0</attwidth>
			</attr>
		</detailed>
		<detailed Sync="TRUE">
			<enttyp Sync="TRUE">
				<enttypl Sync="TRUE">Band_2</enttypl>
				<enttypc Sync="TRUE">252</enttypc>
				<enttypt Sync="TRUE">Table</enttypt>
			</enttyp>
			<attr Sync="TRUE">
				<attrlabl Sync="TRUE">ObjectID</attrlabl>
				<attrdef Sync="TRUE">Internal feature number.</attrdef>
				<attrdefs Sync="TRUE">ESRI</attrdefs>
				<attrdomv Sync="TRUE">
					<udom Sync="TRUE">Sequential unique whole numbers that are automatically generated.</udom>
				</attrdomv>
				<atprecis Sync="TRUE">0</atprecis>
				<attalias Sync="TRUE">ObjectID</attalias>
				<attrtype Sync="TRUE">OID</attrtype>
				<attscale Sync="TRUE">0</attscale>
				<attwidth Sync="TRUE">4</attwidth>
			</attr>
			<attr Sync="TRUE">
				<attrlabl Sync="TRUE">Value</attrlabl>
				<atprecis Sync="TRUE">0</atprecis>
				<attalias Sync="TRUE">Value</attalias>
				<attrtype Sync="TRUE">Integer</attrtype>
				<attscale Sync="TRUE">0</attscale>
				<attwidth Sync="TRUE">0</attwidth>
			</attr>
			<attr Sync="TRUE">
				<attrlabl Sync="TRUE">Count</attrlabl>
				<atprecis Sync="TRUE">0</atprecis>
				<attalias Sync="TRUE">Count</attalias>
				<attrtype Sync="TRUE">Double</attrtype>
				<attscale Name="Band_3">0</attscale>
				<attwidth Sync="TRUE">0</attwidth>
			</attr>
		</detailed>
		<detailed Sync="TRUE">
			<enttyp Sync="TRUE">
				<enttypl Sync="TRUE">Band_3</enttypl>
				<enttypc Sync="TRUE">251</enttypc>
				<enttypt Sync="TRUE">Table</enttypt>
			</enttyp>
			<attr Sync="TRUE">
				<attrlabl Sync="TRUE">ObjectID</attrlabl>
				<attrdef Sync="TRUE">Internal feature number.</attrdef>
				<attrdefs Sync="TRUE">ESRI</attrdefs>
				<attrdomv Sync="TRUE">
					<udom Sync="TRUE">Sequential unique whole numbers that are automatically generated.</udom>
				</attrdomv>
				<atprecis Sync="TRUE">0</atprecis>
				<attalias Sync="TRUE">ObjectID</attalias>
				<attrtype Sync="TRUE">OID</attrtype>
				<attscale Sync="TRUE">0</attscale>
				<attwidth Sync="TRUE">4</attwidth>
			</attr>
			<attr Sync="TRUE">
				<attrlabl Sync="TRUE">Value</attrlabl>
				<atprecis Sync="TRUE">0</atprecis>
				<attalias Sync="TRUE">Value</attalias>
				<attrtype Sync="TRUE">Integer</attrtype>
				<attscale Sync="TRUE">0</attscale>
				<attwidth Sync="TRUE">0</attwidth>
			</attr>
			<attr Sync="TRUE">
				<attrlabl Sync="TRUE">Count</attrlabl>
				<atprecis Sync="TRUE">0</atprecis>
				<attalias Sync="TRUE">Count</attalias>
				<attrtype Sync="TRUE">Double</attrtype>
				<attscale Sync="TRUE">0</attscale>
				<attwidth Sync="TRUE">0</attwidth>
			</attr>
		</detailed>
	</eainfo>
	<distinfo Sync="TRUE">
		<distrib>
			<cntinfo Sync="TRUE">
				<cntorgp>
					<cntorg Sync="TRUE">U.S. Geological Survey, Spokane Field Office</cntorg>
					<cntper Sync="TRUE">Michael L. Zientek</cntper>
				</cntorgp>
				<cntaddr Sync="TRUE">
					<addrtype>mailing and physical address</addrtype>
					<address>904 W. Riverside, Room 202</address>
					<city>Spokane</city>
					<state>WA</state>
					<postal Sync="TRUE">99201-1087</postal>
				</cntaddr>
				<cntvoice Sync="TRUE">(509) 368-3105</cntvoice>
				<cntemail Sync="TRUE">mzientek@usgs.gov</cntemail>
			</cntinfo>
		</distrib>
		<resdesc>DS 106</resdesc>
		<distliab>
The U.S. Geological Survey (USGS) provides these geographic data "as is". The USGS makes no guarantee or warranty concerning the accuracy of information contained in the geographic data. The USGS further makes no warranties, either expressed or implied as to any other matter whatsoever, including, without limitation, the condition of the product, or its fitness for any particular purpose. The burden for determining fitness for use lies entirely with the user. Although these data have been processed successfully on computers at the USGS, no warranty, expressed or implied, is made by the USGS regarding the use of these data on any other system, nor does the fact of distribution constitute or imply any such warranty. 
In no event shall the USGS have any liability whatsoever for payment of any consequential, incidental, indirect, special, or tort damages of any kind, including, but not limited to, any loss of profits arising out of use of or reliance on the geographic data or arising out of the delivery, installation, operation, or support by USGS. 

This digital geologic map image is not meant to be used or displayed at any scale larger than 1:200,000 (for example, 1:2,000).
</distliab>
		<stdorder>
			<digform Sync="TRUE">
				<digtinfo>
					<formname Sync="TRUE">TIFF</formname>
					<formspec>The TIFF file contains the image data.  The TFW file contains the world file.  The RRD file contains the pyramid file.  The AUX file contains auxiliary information such as map projection, pointer to pyramid file, etc.  The XML file contains the metadata describing the data set &lt;data set name&gt;.tif.xml.</formspec>
					<filedec Sync="TRUE">no compression applied</filedec>
					<transize Sync="TRUE">10.026</transize>
					<dssize Sync="TRUE">10.026</dssize>
				</digtinfo>
			</digform>
		</stdorder>
		<custom>N/A</custom>
		<techpreq>Software that supports TIFF image format is required to use this data.</techpreq>
	</distinfo>
	<metainfo Sync="TRUE">
		<metd Sync="TRUE">20040915</metd>
		<metc Sync="TRUE">
			<cntinfo Sync="TRUE">
				<cntperp Sync="TRUE">
					<cntper Sync="TRUE">Jeremy C. Larsen</cntper>
					<cntorg>Information Systems Support (under contract to the U.S. Geological Survey)</cntorg>
				</cntperp>
				<cntpos>Contractor</cntpos>
				<cntaddr>
					<addrtype Sync="TRUE">mailing and physical address</addrtype>
					<address Sync="TRUE">904 W. Riverside, Room 202</address>
					<city Sync="TRUE">Spokane</city>
					<state>WA</state>
					<postal>99201</postal>
				</cntaddr>
				<cntvoice Sync="TRUE">(509) 368-3118</cntvoice>
				<cntemail Sync="TRUE">jlarsen@usgs.gov</cntemail>
			</cntinfo>
		</metc>
		<metstdn Sync="TRUE">FGDC Content Standards for Digital Geospatial Metadata</metstdn>
		<metstdv Sync="TRUE">FGDC-STD-001-1998</metstdv>
		<mettc Sync="TRUE">local time</mettc>
		<metac>none</metac>
		<metuc>none</metuc>
		<metextns Sync="TRUE">
			<onlink Sync="TRUE">http://www.esri.com/metadata/esriprof80.html</onlink>
			<metprof Sync="TRUE">ESRI Metadata Profile</metprof>
		</metextns>
		<langmeta Sync="TRUE">en</langmeta>
	</metainfo>
	<dataIdInfo Sync="TRUE">
		<envirDesc Sync="TRUE">Microsoft Windows 2000 Version 5.1 (Build 2600) Service Pack 1; ESRI ArcCatalog 8.3.0.800</envirDesc>
		<dataLang Sync="TRUE" value="en">
			<languageCode Sync="TRUE" value="en"></languageCode>
		</dataLang>
		<geoBox esriExtentType="decdegrees">
			<westBL Sync="TRUE">-112.83057</westBL>
			<eastBL Sync="TRUE">-111.45896</eastBL>
			<northBL Sync="TRUE">46.733576</northBL>
			<southBL Sync="TRUE">45.602702</southBL>
			<exTypeCode Sync="TRUE">1</exTypeCode>
		</geoBox>
		<idCitation Sync="TRUE">
			<resTitle Sync="TRUE">BoulderBath_rect.tif</resTitle>
			<presForm Sync="TRUE" value="005">
				<PresFormCd Sync="TRUE" value="005"></PresFormCd>
			</presForm>
		</idCitation>
		<spatRpType Sync="TRUE" value="002">
			<SpatRepTypCd Sync="TRUE" value="002"></SpatRepTypCd>
		</spatRpType>
		<dataExt Sync="TRUE">
			<geoEle Sync="TRUE">
				<GeoBndBox esriExtentType="native">
					<westBL Sync="TRUE">360101.336682</westBL>
					<northBL Sync="TRUE">5175446.209899</northBL>
					<southBL Sync="TRUE">5051253.821342</southBL>
					<eastBL Sync="TRUE">464215.459383</eastBL>
					<exTypeCode Sync="TRUE">1</exTypeCode>
				</GeoBndBox>
			</geoEle>
		</dataExt>
	</dataIdInfo>
	<distInfo Sync="TRUE">
		<distributor Sync="TRUE" value="en">
			<distorTran Sync="TRUE">
				<onLineSrc Sync="TRUE">
					<orDesc Sync="TRUE">002</orDesc>
					<protocol Sync="TRUE">Local Area Network</protocol>
					<linkage Sync="TRUE">file://\\Qsnap1\HWTRS\HW_RegionalGeology\Map_Images_Final\Report_working\OF04-xxx\GEOREFERENCED\BoulderBath_rect.tif</linkage>
				</onLineSrc>
				<transSize Sync="TRUE">10.026</transSize>
			</distorTran>
			<distorFormat Sync="TRUE">
				<formatName Sync="TRUE">Raster Dataset</formatName>
			</distorFormat>
		</distributor>
	</distInfo>
	<Esri Sync="TRUE" value="005">
		<MetaID Sync="TRUE">{3C6FCFEA-E634-4087-9146-15BE1CB9A2DD}</MetaID>
		<ModDate>20040915</ModDate>
		<ModTime>09200300</ModTime>
		<SyncDate>20040811</SyncDate>
		<SyncOnce Sync="TRUE">FALSE</SyncOnce>
		<SyncTime>13250300</SyncTime>
		<CreaDate Sync="TRUE">20031008</CreaDate>
		<CreaTime Sync="TRUE" value="en">09104000</CreaTime>
	</Esri>
	<mdChar Sync="TRUE">
		<CharSetCd Sync="TRUE" value="004"></CharSetCd>
	</mdChar>
	<mdDateSt Sync="TRUE">20040915</mdDateSt>
	<mdHrLv Sync="TRUE">
		<ScopeCd Sync="TRUE" value="005"></ScopeCd>
	</mdHrLv>
	<mdHrLvName Sync="TRUE">dataset</mdHrLvName>
	<mdLang Sync="TRUE" value="en">
		<languageCode Sync="TRUE" value="en"></languageCode>
	</mdLang>
	<mdStanName Sync="TRUE">ISO 19115 Geographic Information - Metadata</mdStanName>
	<mdStanVer Sync="TRUE">DIS_ESRI1.0</mdStanVer>
	<refSysInfo Sync="TRUE">
		<RefSystem Sync="TRUE">
			<refSysID Sync="TRUE">
				<identCode Sync="TRUE">NAD_1927_UTM_Zone_12N</identCode>
			</refSysID>
		</RefSystem>
	</refSysInfo>
	<spatRepInfo Sync="TRUE">
		<GridSpatRep Sync="TRUE">
			<numDims Sync="TRUE">2</numDims>
			<tranParaAv Sync="TRUE">1</tranParaAv>
			<axDimProps Sync="TRUE">
				<Dimen Sync="TRUE">
					<dimName Sync="TRUE" value="002">
						<DimNameTypCd Sync="TRUE" value="002"></DimNameTypCd>
					</dimName>
					<dimResol Sync="TRUE">12.40931</dimResol>
					<dimSize Sync="TRUE">8390</dimSize>
				</Dimen>
				<Dimen Sync="TRUE">
					<dimName Sync="TRUE" value="001">
						<DimNameTypCd Sync="TRUE" value="001"></DimNameTypCd>
					</dimName>
					<dimResol Sync="TRUE">12.40931</dimResol>
					<dimSize Sync="TRUE">10008</dimSize>
				</Dimen>
			</axDimProps>
			<cellGeo Sync="TRUE" value="002">
				<CellGeoCd Sync="TRUE" value="002"></CellGeoCd>
			</cellGeo>
		</GridSpatRep>
	</spatRepInfo>
</metadata>
