<?xml version="1.0" encoding="ISO-8859-1"?>
<metadata>
	<idinfo>
		<citation>
			<citeinfo>
				<origin>Larsen, J.C.</origin>
				<origin>Assmus, K.C.</origin>
				<origin Sync="TRUE">Causey, J.D.</origin>
				<origin>Zientek, M.L.</origin>
				<pubdate>2004</pubdate>
				<title Sync="TRUE">Rectified images of selected geologic maps of the northern Rockies area, Idaho, Montana, Washington, and Wyoming</title>
				<geoform>raster digital data</geoform>
				<serinfo>
					<sername>U.S. Geological Survey Data Series</sername>
					<issue>DS 106</issue>
				</serinfo>
				<pubinfo Sync="TRUE">
					<pubplace>Menlo Park, CA</pubplace>
					<publish>U.S. Geological Survey</publish>
				</pubinfo>
			</citeinfo>
		</citation>
		<descript>
			<abstract Sync="TRUE">This rectified map image was created for the purpose of directly comparing an image of the original geologic map with other geospatial information.  The rectified image includes the map and coordinate labels; titles, text, explanations, cross sections, and collar information were cropped.</abstract>
			<purpose Sync="TRUE">This rectified image was created to allow the direct comparison of a published geologic map with other geospatial information in a geographic information system.  The rectified image can be compared to vector representations of the same map to ensure that features are coded correctly and that all geologic information on the published map was captured in the vector files.  The image also quickly illustrates how the author intended to symbolize the map. </purpose>
			<supplinf Sync="TRUE">Butte_MF1925_rect.sid is a rectified (georeferenced) MrSID image format file that was derived from an unpublished rectified TIFF image format file which, in turn, was created by scanning a paper copy of the original map by Wallace (1987).</supplinf>
			<langdata Sync="TRUE">en</langdata>
		</descript>
		<timeperd Sync="TRUE">
			<timeinfo Sync="TRUE">
				<sngdate>
					<caldate Sync="TRUE">1987</caldate>
				</sngdate>
			</timeinfo>
			<current Sync="TRUE">Publication date of original map</current>
		</timeperd>
		<status Sync="TRUE">
			<progress Sync="TRUE">Complete</progress>
			<update Sync="TRUE">None planned</update>
		</status>
		<spdom Sync="TRUE">
			<bounding Sync="TRUE">
				<westbc Sync="TRUE">-114.085715</westbc>
				<eastbc Sync="TRUE">-111.924699</eastbc>
				<northbc Sync="TRUE">47.050795</northbc>
				<southbc Sync="TRUE">45.945716</southbc>
			</bounding>
			<lboundng Sync="TRUE">
				<leftbc Sync="TRUE">265464.655619</leftbc>
				<rightbc Sync="TRUE">428373.210367</rightbc>
				<topbc Sync="TRUE">5211021.661756</topbc>
				<bottombc Sync="TRUE">5092251.215133</bottombc>
			</lboundng>
		</spdom>
		<keywords>
			<theme>
				<themekt>None</themekt>
				<themekey>geologic map</themekey>
				<themekey>rectified raster image</themekey>
				<themekey>digital image</themekey>
				<themekey>georeferenced image</themekey>
			</theme>
			<place>
				<placekey Sync="TRUE">Butte quadrangle</placekey>
				<placekey Sync="TRUE">Montana</placekey>
				<placekey>USA</placekey>
			</place>
		</keywords>
		<accconst>none</accconst>
		<useconst>This digital image is not meant to be used or displayed at any scale larger than 1:250,000 (for example, 1:2,000).</useconst>
		<ptcontac>
			<cntinfo>
				<cntperp>
					<cntper>Michael L. Zientek</cntper>
					<cntorg>U.S. Geological Survey</cntorg>
				</cntperp>
				<cntpos>Geologist</cntpos>
				<cntaddr>
					<addrtype Sync="TRUE">mailing and physical address</addrtype>
					<address Sync="TRUE">904 W. Riverside, Room 202</address>
					<city>Spokane</city>
					<state>WA</state>
					<postal>99201-1087</postal>
				</cntaddr>
				<cntvoice>(509) 368-3105</cntvoice>
				<cntemail>mzientek@usgs.gov</cntemail>
			</cntinfo>
		</ptcontac>
		<datacred Sync="TRUE">N/A</datacred>
		<native Sync="TRUE">Microsoft Windows 2000 Version 5.0 (Build 2195) Service Pack 4; ESRI ArcGIS 8.1; Adobe Photoshop Elements 2.0; LizardTech Geospatial Encoder 1.4; 3001, Inc. RAster Georeference Enabler (RAGE) tool 1.1.17.</native>
		<natvform Sync="TRUE">Raster Dataset</natvform>
	</idinfo>
	<dataqual>
		<complete>The title, text, explanation, cross section, index maps and collar information of the original data source map are cropped or partially cropped in the georeferenced MrSID image.</complete>
		<posacc>
			<horizpa>
				<horizpar>Butte_MF1925_rect.sid has a horizontal accuracy of no better than 51 meters, which reflects the resolution of the reference file, hwquad100g.shp.  The rectified image was tested to ensure it was projected and georeferenced properly by overlying it with hwquad100g.shp, a polygon shapefile of 1:100,000-scale quadrangles.  Hwquad100g.shp was derived from the mathematically generated file, topoq100.shp, which was obtained from ESRI Data &amp; Maps 2002 (CD 2) and is distributed as part of ESRI software.  The positional accuracy for topoq100.shp, and thus hwquad100g.shp is 51 meters.  By visual inspection at the scale of publication, the image fell within the boundaries of the four corresponding 1:100,000-scale quadrangles.</horizpar>
			</horizpa>
			<vertacc>
				<vertaccr>N/A</vertaccr>
			</vertacc>
		</posacc>
		<lineage>
			<srcinfo>
				<srccite>
					<citeinfo>
						<origin>Wallace, C.A.</origin>
						<pubdate>1987</pubdate>
						<title>Generalized geologic map of the Butte 1° x 2° quadrangle, Montana</title>
						<geoform>map</geoform>
						<serinfo>
							<sername>U.S. Geological Survey Miscellaneous Field Studies Map</sername>
							<issue>MF-1925</issue>
						</serinfo>
						<pubinfo>
							<pubplace Sync="TRUE">Reston, VA</pubplace>
							<publish Sync="TRUE">U.S. Geological Survey</publish>
						</pubinfo>
					</citeinfo>
				</srccite>
				<srcscale>250000</srcscale>
				<typesrc Sync="TRUE">paper</typesrc>
				<srctime Sync="TRUE">
					<timeinfo Sync="TRUE">
						<sngdate Sync="TRUE">
							<caldate>1987</caldate>
						</sngdate>
					</timeinfo>
					<srccurr>publication date</srccurr>
				</srctime>
				<srccitea>Wallace (1987)</srccitea>
				<srccontr>The full map extent of the original paper map and marginal coordinate information, excluding the title, explanation, cross-sections, index maps, and other collar information, was used in this data set.</srccontr>
			</srcinfo>
			<procstep>
				<procdesc Sync="TRUE">The original paper map was scanned and saved as a 400 dpi, 8-bit B/W TIFF image using a Colscan scanner at the TeckCominco Spokane Office.  The scanned TIFF image was cropped to include the map and marginal coordinate information.  A polygon shapefile of 1:100,000-scale quadrangles (hwquad100g.shp) was used to rectify the image with ArcMap 8.1.  Latitude and longitude intersections that were displayed on the source image were tied to the corresponding quadrangle corners in the hwquad100g.shp file.  The rectified TIFF was then opened in LizardTech Geospatial Encoder 1.4 and converted to MrSID image format using a 10:1 compression ratio.  The resulting files include the image data (*.sid) and a world file (*.sdw).  ArcGIS did not recognize coordinate information for these files, so 3001, Inc.'s RAster Georeference Enabler (RAGE) tool was used to associate coordinate information with the MrSID image.  The RAGE tool is available from URL = http://www.3001data.com/3001website/main/downloads_files/rage/geotiff_header_repair.htm.</procdesc>
				<procdate Sync="TRUE">2003</procdate>
				<srcused>Wallace (1987)</srcused><srcprod>Butte_MF1925_rect.sid</srcprod></procstep>
		</lineage>
	</dataqual>
	<spdoinfo Sync="TRUE">
		<direct Sync="TRUE">Raster</direct>
		<rastinfo Sync="TRUE">
			<rasttype Sync="TRUE">Pixel</rasttype>
			<rowcount Sync="TRUE">7260</rowcount>
			<colcount Sync="TRUE">9957</colcount>
			<vrtcount Sync="TRUE">1</vrtcount>
			<rastband Sync="TRUE">1</rastband>
			<rastbpp Sync="TRUE">8</rastbpp>
			<rastcmap Sync="TRUE">FALSE</rastcmap>
			<rastcomp Sync="TRUE">Wavelet</rastcomp>
			<rastdtyp Sync="TRUE">pixel codes</rastdtyp>
			<rastifor Sync="TRUE">MrSID</rastifor>
			<rastorig Sync="TRUE">Upper Left</rastorig>
			<rastplyr Sync="TRUE">TRUE</rastplyr>
			<rastxsz Sync="TRUE">16.361209</rastxsz>
			<rastysz Sync="TRUE">16.359566</rastysz>
		</rastinfo>
	</spdoinfo>
	<spref Sync="TRUE">
		<horizsys Sync="TRUE">
			<planar Sync="TRUE">
				<gridsys Sync="TRUE">
					<gridsysn Sync="TRUE">Universal Transverse Mercator</gridsysn>
					<utm>
						<utmzone Sync="TRUE">12</utmzone>
						<transmer Sync="TRUE">
							<sfctrmer Sync="TRUE">0.999600</sfctrmer>
							<longcm Sync="TRUE">-111.000000</longcm>
							<latprjo Sync="TRUE">0.000000</latprjo>
							<feast Sync="TRUE">500000.000000</feast>
							<fnorth Sync="TRUE">0.000000</fnorth>
						</transmer>
					</utm>
				</gridsys>
				<planci Sync="TRUE">
					<plance Sync="TRUE">row and column</plance>
					<coordrep Sync="TRUE">
						<absres Sync="TRUE">16.361209</absres>
						<ordres Sync="TRUE">16.359566</ordres>
					</coordrep>
					<plandu Sync="TRUE">meters</plandu>
				</planci>
			</planar>
			<geodetic Sync="TRUE">
				<horizdn Sync="TRUE">North American Datum of 1927</horizdn>
				<ellips Sync="TRUE">Clarke 1866</ellips>
				<semiaxis Sync="TRUE">6378206.400000</semiaxis>
				<denflat Sync="TRUE">294.978698</denflat>
			</geodetic>
			<cordsysn Sync="TRUE">
				<geogcsn Sync="TRUE">GCS_North_American_1927</geogcsn>
				<projcsn Name="Band_1">NAD_1927_UTM_Zone_12N</projcsn>
			</cordsysn>
		</horizsys>
	</spref>
	<eainfo Sync="TRUE">
		<detailed Sync="TRUE">
			<enttyp Sync="TRUE">
				<enttypl Sync="TRUE">Band_1</enttypl>
				<enttypc Sync="TRUE">256</enttypc>
				<enttypt Sync="TRUE">Table</enttypt>
			</enttyp>
			<attr Sync="TRUE">
				<attrlabl Sync="TRUE">ObjectID</attrlabl>
				<attrdef Sync="TRUE">Internal feature number.</attrdef>
				<attrdefs Sync="TRUE">ESRI</attrdefs>
				<attrdomv Sync="TRUE">
					<udom Sync="TRUE">Sequential unique whole numbers that are automatically generated.</udom>
				</attrdomv>
				<atprecis Sync="TRUE">0</atprecis>
				<attalias Sync="TRUE">ObjectID</attalias>
				<attrtype Sync="TRUE">OID</attrtype>
				<attscale Sync="TRUE">0</attscale>
				<attwidth Sync="TRUE">4</attwidth>
			</attr>
			<attr Sync="TRUE">
				<attrlabl Sync="TRUE">Value</attrlabl>
				<atprecis Sync="TRUE">0</atprecis>
				<attalias Sync="TRUE">Value</attalias>
				<attrtype Sync="TRUE">Integer</attrtype>
				<attscale Sync="TRUE">0</attscale>
				<attwidth Sync="TRUE">0</attwidth>
			</attr>
			<attr Sync="TRUE">
				<attrlabl Sync="TRUE">Count</attrlabl>
				<atprecis Sync="TRUE">0</atprecis>
				<attalias Sync="TRUE">Count</attalias>
				<attrtype Sync="TRUE">Integer</attrtype>
				<attscale Name="Band_2">0</attscale>
				<attwidth Sync="TRUE">0</attwidth>
			</attr>
		</detailed>
		<detailed Sync="TRUE">
			<enttyp Sync="TRUE">
				<enttypl Sync="TRUE">Band_2</enttypl>
				<enttypc Sync="TRUE">256</enttypc>
				<enttypt Sync="TRUE">Table</enttypt>
			</enttyp>
			<attr Sync="TRUE">
				<attrlabl Sync="TRUE">ObjectID</attrlabl>
				<attrdef Sync="TRUE">Internal feature number.</attrdef>
				<attrdefs Sync="TRUE">ESRI</attrdefs>
				<attrdomv Sync="TRUE">
					<udom Sync="TRUE">Sequential unique whole numbers that are automatically generated.</udom>
				</attrdomv>
				<atprecis Sync="TRUE">0</atprecis>
				<attalias Sync="TRUE">ObjectID</attalias>
				<attrtype Sync="TRUE">OID</attrtype>
				<attscale Sync="TRUE">0</attscale>
				<attwidth Sync="TRUE">4</attwidth>
			</attr>
			<attr Sync="TRUE">
				<attrlabl Sync="TRUE">Value</attrlabl>
				<atprecis Sync="TRUE">0</atprecis>
				<attalias Sync="TRUE">Value</attalias>
				<attrtype Sync="TRUE">Integer</attrtype>
				<attscale Sync="TRUE">0</attscale>
				<attwidth Sync="TRUE">0</attwidth>
			</attr>
			<attr Sync="TRUE">
				<attrlabl Sync="TRUE">Count</attrlabl>
				<atprecis Sync="TRUE">0</atprecis>
				<attalias Sync="TRUE">Count</attalias>
				<attrtype Sync="TRUE">Integer</attrtype>
				<attscale Name="Band_3">0</attscale>
				<attwidth Sync="TRUE">0</attwidth>
			</attr>
		</detailed>
		<detailed Sync="TRUE">
			<enttyp Sync="TRUE">
				<enttypl Sync="TRUE">Band_3</enttypl>
				<enttypc Sync="TRUE">256</enttypc>
				<enttypt Sync="TRUE">Table</enttypt>
			</enttyp>
			<attr Sync="TRUE">
				<attrlabl Sync="TRUE">ObjectID</attrlabl>
				<attrdef Sync="TRUE">Internal feature number.</attrdef>
				<attrdefs Sync="TRUE">ESRI</attrdefs>
				<attrdomv Sync="TRUE">
					<udom Sync="TRUE">Sequential unique whole numbers that are automatically generated.</udom>
				</attrdomv>
				<atprecis Sync="TRUE">0</atprecis>
				<attalias Sync="TRUE">ObjectID</attalias>
				<attrtype Sync="TRUE">OID</attrtype>
				<attscale Sync="TRUE">0</attscale>
				<attwidth Sync="TRUE">4</attwidth>
			</attr>
			<attr Sync="TRUE">
				<attrlabl Sync="TRUE">Value</attrlabl>
				<atprecis Sync="TRUE">0</atprecis>
				<attalias Sync="TRUE">Value</attalias>
				<attrtype Sync="TRUE">Integer</attrtype>
				<attscale Sync="TRUE">0</attscale>
				<attwidth Sync="TRUE">0</attwidth>
			</attr>
			<attr Sync="TRUE">
				<attrlabl Sync="TRUE">Count</attrlabl>
				<atprecis Sync="TRUE">0</atprecis>
				<attalias Sync="TRUE">Count</attalias>
				<attrtype Sync="TRUE">Integer</attrtype>
				<attscale Sync="TRUE">0</attscale>
				<attwidth Sync="TRUE">0</attwidth>
			</attr>
		</detailed>
	</eainfo>
	<distinfo Sync="TRUE">
		<distrib>
			<cntinfo Sync="TRUE">
				<cntorgp>
					<cntorg Sync="TRUE">U.S. Geological Survey, Spokane Field Office</cntorg>
					<cntper Sync="TRUE">Michael L. Zientek</cntper>
				</cntorgp>
				<cntaddr Sync="TRUE">
					<addrtype>mailing and physical address</addrtype>
					<address>904 W. Riverside, Room 202</address>
					<city>Spokane</city>
					<state>WA</state>
					<postal Sync="TRUE">99201-1087</postal>
				</cntaddr>
				<cntvoice Sync="TRUE">(509) 368-3105</cntvoice>
				<cntemail Sync="TRUE">mzientek@usgs.gov</cntemail>
			</cntinfo>
		</distrib>
		<resdesc>DS 106</resdesc>
		<distliab>
The U.S. Geological Survey (USGS) provides these geographic data "as is". The USGS makes no guarantee or warranty concerning the accuracy of information contained in the geographic data. The USGS further makes no warranties, either expressed or implied as to any other matter whatsoever, including, without limitation, the condition of the product, or its fitness for any particular purpose. The burden for determining fitness for use lies entirely with the user. Although these data have been processed successfully on computers at the USGS, no warranty, expressed or implied, is made by the USGS regarding the use of these data on any other system, nor does the fact of distribution constitute or imply any such warranty. 
In no event shall the USGS have any liability whatsoever for payment of any consequential, incidental, indirect, special, or tort damages of any kind, including, but not limited to, any loss of profits arising out of use of or reliance on the geographic data or arising out of the delivery, installation, operation, or support by USGS. 

This digital geologic map image is not meant to be used or displayed at any scale larger than 1:250,000 (for example, 1:2,000).
</distliab>
		<stdorder>
			<digform Sync="TRUE">
				<digtinfo>
					<formname Sync="TRUE">MrSID</formname>
					<formvern>1.4</formvern>
					<formspec Sync="TRUE">The SID file contains the image data.  The SDW file contains the world file.  The AUX file contains auxiliary information such as map projection, pointer to pyramid file, etc.  The XML file contains the metadata describing the data set &lt;data set name&gt;.sid.xml.</formspec>
					<filedec Sync="TRUE">MrSID</filedec>
					<transize Sync="TRUE">6.382</transize>
					<dssize Sync="TRUE">6.382</dssize>
				</digtinfo>
			</digform>
		</stdorder>
		<custom>N/A</custom>
		<techpreq Sync="TRUE">Software that supports MrSID image format is required to use this data.</techpreq>
	</distinfo>
	<metainfo>
		<metd Sync="TRUE">20040915</metd>
		<metc Sync="TRUE">
			<cntinfo Sync="TRUE">
				<cntperp Sync="TRUE">
					<cntper>Jeremy C. Larsen</cntper>
					<cntorg>Information Systems Support (under contract to the U.S. Geological Survey)</cntorg>
				</cntperp>
				<cntpos>Contractor</cntpos>
				<cntaddr>
					<addrtype Sync="TRUE">mailing and physical address</addrtype>
					<address Sync="TRUE">904 W. Riverside, Room 202</address>
					<city>Spokane</city>
					<state>WA</state>
					<postal Sync="TRUE">99201</postal>
				</cntaddr>
				<cntvoice Sync="TRUE">(509) 368-3118</cntvoice>
				<cntemail Sync="TRUE">jlarsen@usgs.gov</cntemail>
			</cntinfo>
		</metc>
		<metstdn Sync="TRUE">FGDC Content Standards for Digital Geospatial Metadata</metstdn>
		<metstdv Sync="TRUE">FGDC-STD-001-1998</metstdv>
		<mettc Sync="TRUE">local time</mettc>
		<metac>none</metac>
		<metuc Sync="TRUE">none</metuc>
		<metextns Sync="TRUE">
			<onlink Sync="TRUE">http://www.esri.com/metadata/esriprof80.html</onlink>
			<metprof Sync="TRUE" value="005">ESRI Metadata Profile</metprof>
		</metextns>
		<langmeta Sync="TRUE">en</langmeta>
	</metainfo>
	<dataIdInfo Sync="TRUE">
		<envirDesc Sync="TRUE" value="en">Microsoft Windows 2000 Version 5.1 (Build 2600) Service Pack 1; ESRI ArcCatalog 8.3.0.800</envirDesc>
		<dataLang Sync="TRUE">
			<languageCode Sync="TRUE"></languageCode>
		</dataLang>
		<geoBox Sync="TRUE">
			<westBL Sync="TRUE">-114.085715</westBL>
			<eastBL Sync="TRUE">-111.924699</eastBL>
			<northBL Sync="TRUE">47.050795</northBL>
			<southBL Sync="TRUE">45.945716</southBL>
			<exTypeCode Sync="TRUE" value="en">1</exTypeCode>
		</geoBox>
		<idCitation Sync="TRUE">
			<resTitle Sync="TRUE" value="005">Butte_MF1925_rect.sid</resTitle>
			<presForm Sync="TRUE" value="002">
				<PresFormCd Sync="TRUE" value="002"></PresFormCd>
			</presForm>
		</idCitation>
		<spatRpType Sync="TRUE">
			<SpatRepTypCd Sync="TRUE"></SpatRepTypCd>
		</spatRpType>
		<dataExt esriExtentType="native">
			<geoEle Sync="TRUE">
				<GeoBndBox Sync="TRUE" value="en">
					<westBL Sync="TRUE">265464.655619</westBL>
					<northBL Sync="TRUE">5211021.661756</northBL>
					<southBL Sync="TRUE">5092251.215133</southBL>
					<eastBL Sync="TRUE">428373.210367</eastBL>
					<exTypeCode esriExtentType="decdegrees">1</exTypeCode>
				</GeoBndBox>
			</geoEle>
		</dataExt>
	</dataIdInfo>
	<distInfo Sync="TRUE">
		<distributor Sync="TRUE">
			<distorTran Sync="TRUE">
				<onLineSrc Sync="TRUE">
					<orDesc Sync="TRUE">002</orDesc>
					<protocol Sync="TRUE">Local Area Network</protocol>
					<linkage Sync="TRUE">file://\\Qsnap1\HWTRS\HW_RegionalGeology\Map_Images_Final\Report_working\OF04-xxx\GEOREFERENCED\Butte_MF1925_rect.sid</linkage>
				</onLineSrc>
				<transSize Sync="TRUE">6.382</transSize>
			</distorTran>
			<distorFormat Sync="TRUE">
				<formatName Sync="TRUE">Raster Dataset</formatName>
			</distorFormat>
		</distributor>
	</distInfo>
	<Esri Sync="TRUE" value="en">
		<MetaID Sync="TRUE">{9B4697F5-7C50-4AD4-B2BA-D0E22819BBEC}</MetaID>
		<ModDate>20040915</ModDate>
		<ModTime>09203100</ModTime>
		<SyncDate>20040811</SyncDate>
		<SyncOnce>FALSE</SyncOnce>
		<SyncTime>13252200</SyncTime>
		<CreaDate Sync="TRUE" value="en">20030919</CreaDate>
		<CreaTime Sync="TRUE">10184300</CreaTime>
	</Esri>
	<mdChar Sync="TRUE">
		<CharSetCd Sync="TRUE" value="005"></CharSetCd>
	</mdChar>
	<mdDateSt Sync="TRUE" value="002">20040915</mdDateSt>
	<mdHrLv Sync="TRUE">
		<ScopeCd Sync="TRUE"></ScopeCd>
	</mdHrLv>
	<mdHrLvName Sync="TRUE">dataset</mdHrLvName>
	<mdLang Sync="TRUE">
		<languageCode Sync="TRUE"></languageCode>
	</mdLang>
	<mdStanName Sync="TRUE">ISO 19115 Geographic Information - Metadata</mdStanName>
	<mdStanVer Sync="TRUE">DIS_ESRI1.0</mdStanVer>
	<refSysInfo Sync="TRUE">
		<RefSystem Sync="TRUE">
			<refSysID Sync="TRUE">
				<identCode Sync="TRUE">NAD_1927_UTM_Zone_12N</identCode>
			</refSysID>
		</RefSystem>
	</refSysInfo>
	<spatRepInfo Sync="TRUE">
		<GridSpatRep Sync="TRUE" value="002">
			<numDims Sync="TRUE">2</numDims>
			<tranParaAv Sync="TRUE">1</tranParaAv>
			<axDimProps Sync="TRUE" value="002">
				<Dimen Sync="TRUE" value="002">
					<dimName Sync="TRUE">
						<DimNameTypCd Sync="TRUE"></DimNameTypCd>
					</dimName>
					<dimResol Sync="TRUE">16.36121</dimResol>
					<dimSize Sync="TRUE">9957</dimSize>
				</Dimen>
				<Dimen Sync="TRUE" value="001">
					<dimName Sync="TRUE">
						<DimNameTypCd Sync="TRUE"></DimNameTypCd>
					</dimName>
					<dimResol Sync="TRUE" value="002">16.35957</dimResol>
					<dimSize Sync="TRUE">7260</dimSize>
				</Dimen>
			</axDimProps>
			<cellGeo Sync="TRUE">
				<CellGeoCd Sync="TRUE"></CellGeoCd>
			</cellGeo>
		</GridSpatRep>
	</spatRepInfo>
</metadata>
