<?xml version="1.0" encoding="ISO-8859-1"?>
<metadata>
	<idinfo>
		<citation>
			<citeinfo>
				<origin>Larsen, J.C.</origin>
				<origin>Assmus, K.C.</origin>
				<origin Sync="TRUE">Causey, J.D.</origin>
				<origin>Zientek, M.L.</origin>
				<pubdate>2004</pubdate>
				<title Sync="TRUE">Rectified images of selected geologic maps of the northern Rockies area, Idaho, Montana, Washington, and Wyoming</title>
				<geoform>raster digital data</geoform>
				<serinfo>
					<sername value="002">U.S. Geological Survey Data Series</sername>
					<issue>DS 106</issue>
				</serinfo>
				<pubinfo>
					<pubplace>Menlo Park, CA</pubplace>
					<publish Sync="TRUE">U.S. Geological Survey</publish>
				</pubinfo>
			</citeinfo>
		</citation>
		<descript Sync="TRUE">
			<abstract Sync="TRUE">This rectified map image was created for the purpose of directly comparing an image of the original geologic map with other geospatial information.  The rectified image includes the map and coordinate labels; titles, text, explanations, cross sections, and collar information were cropped.</abstract>
			<purpose Sync="TRUE">This rectified image was created to allow the direct comparison of a published geologic map with other geospatial information in a geographic information system.  The rectified image can be compared to vector representations of the same map to ensure that features are coded correctly and that all geologic information on the published map was captured in the vector files.  The image also quickly illustrates how the author intended to symbolize the map.</purpose>
			<supplinf Sync="TRUE">ChallisNF_rect.sid is a rectified (georeferenced) MrSID image format file that was derived from an unpublished rectified TIFF image format file which, in turn, was created by scanning a paper copy of the original map by Wilson and Skipp (1994).</supplinf>
		</descript>
		<timeperd Sync="TRUE">
			<timeinfo>
				<sngdate Sync="TRUE">
					<caldate Sync="TRUE">1994</caldate>
				</sngdate>
			</timeinfo>
			<current Sync="TRUE">Publication date of original map</current>
		</timeperd>
		<status Sync="TRUE">
			<progress>Complete</progress>
			<update>None planned</update>
		</status>
		<spdom Sync="TRUE">
			<bounding Sync="TRUE">
				<westbc Sync="TRUE">-114.632622</westbc>
				<eastbc Sync="TRUE">-112.662174</eastbc>
				<northbc Sync="TRUE">45.056012</northbc>
				<southbc Sync="TRUE">43.441845</southbc>
			</bounding>
			<lboundng Sync="TRUE">
				<leftbc Sync="TRUE">213739.842435</leftbc>
				<rightbc Sync="TRUE">365583.443918</rightbc>
				<topbc Sync="TRUE">4990372.975205</topbc>
				<bottombc Sync="TRUE">4815747.351781</bottombc>
			</lboundng>
		</spdom>
		<keywords Sync="TRUE">
			<theme>
				<themekt Sync="TRUE">None</themekt>
				<themekey>geologic map</themekey>
				<themekey>rectified raster image</themekey>
				<themekey>digital image</themekey>
				<themekey>georeferenced image</themekey>
			</theme>
			<place>
				<placekey>Challis National Forest</placekey>
				<placekey>Idaho</placekey>
				<placekey Sync="TRUE">USA</placekey>
			</place>
		</keywords>
		<accconst Sync="TRUE">none</accconst>
		<useconst>This digital image is not meant to be used or displayed at any scale larger than 1:250,000 (for example, 1:2,000).</useconst>
		<ptcontac>
			<cntinfo>
				<cntperp>
					<cntper>Michael L. Zientek</cntper>
					<cntorg>U.S. Geological Survey</cntorg>
				</cntperp>
				<cntpos>Geologist</cntpos>
				<cntaddr>
					<addrtype Sync="TRUE">mailing and physical address</addrtype>
					<address>904 W. Riverside, Room 202</address>
					<city Sync="TRUE">Spokane</city>
					<state Sync="TRUE">WA</state>
					<postal>99201-1087</postal>
				</cntaddr>
				<cntvoice>(509) 368-3105</cntvoice>
				<cntemail>mzientek@usgs.gov</cntemail>
			</cntinfo>
		</ptcontac>
		<datacred>N/A</datacred>
		<native>Microsoft Windows 2000 Version 5.0 (Build 2195) Service Pack 4; ESRI ArcGIS 8.1; Adobe Photoshop Elements 2.0; LizardTech Geospatial Encoder 1.4; 3001, Inc. RAster Georeference Enabler (RAGE) tool 1.1.17.</native>
		<natvform Sync="TRUE">Raster Dataset</natvform>
	</idinfo>
	<dataqual Sync="TRUE">
		<complete>The title, text, explanation, cross section, index maps and collar information of the original data source map are cropped or partially cropped in the georeferenced MrSID image.</complete>
		<posacc>
			<horizpa>
				<horizpar>ChallisNF_rect.sid has a horizontal accuracy of no better than 51 meters, which reflects the resolution of the reference file, hwquad100g.shp.  The rectified image was tested to ensure it was projected and georeferenced properly by overlying it with hwquad100g.shp, a polygon shapefile of 1:100,000-scale quadrangles.  Hwquad100g.shp was derived from the mathematically generated file, topoq100.shp, which was obtained from ESRI Data &amp; Maps 2002 (CD 2) and is distributed as part of ESRI software.  The positional accuracy for topoq100.shp, and thus hwquad100g.shp is 51 meters.  By visual inspection at the scale of publication, latitude and longitude intersections displayed on the TIFF coincided with corresponding the quadrangle intersections.</horizpar>
			</horizpa>
			<vertacc>
				<vertaccr>N/A</vertaccr>
			</vertacc>
		</posacc>
		<lineage>
			<srcinfo>
				<srccite>
					<citeinfo>
						<origin>Wilson, A.B.</origin>
						<origin Sync="TRUE">Skipp, B.</origin>
						<pubdate>1994</pubdate>
						<title>Geologic map of the eastern part of the Challis National Forest and vicinity 1:250,000-scale quadrangle, Idaho</title>
						<geoform>map</geoform>
						<serinfo>
							<sername>U.S. Geological Survey Miscellaneous Investigations Series Map</sername>
							<issue>I-2395</issue>
						</serinfo>
						<pubinfo>
							<pubplace Sync="TRUE">Reston, VA</pubplace>
							<publish>U.S. Geological Survey</publish>
						</pubinfo>
					</citeinfo>
				</srccite>
				<srcscale Sync="TRUE">250000</srcscale>
				<typesrc>paper</typesrc>
				<srctime Sync="TRUE">
					<timeinfo>
						<sngdate Sync="TRUE">
							<caldate Sync="TRUE">2000</caldate>
						</sngdate>
					</timeinfo>
					<srccurr>publication date</srccurr>
				</srctime>
				<srccitea>Wilson and Skipp (1994)</srccitea>
				<srccontr>The full map extent of the original paper map and marginal coordinate information, excluding the title, explanation, cross-sections, index maps, and other collar information, was used in this data set.</srccontr>
			</srcinfo>
			<procstep>
				<procdesc Sync="TRUE">The original paper map was scanned and saved as a 300 dpi, 24-bit color TIFF image using a Colscan scanner at the TeckCominco Spokane Office.  The scanned TIFF image was cropped to include the map and marginal coordinate information.  The resulting TIFF image was color balanced using Adobe Photoshop Elements 2.0.  A polygon shapefile of 1:100,000-scale quadrangles (hwquad100g.shp) was used to rectify the image with ArcMap 8.1.  Latitude and longitude intersections displayed on the TIFF image were tied to the corresponding quadrangle corner in the hwquad100g.shp file.  The rectified TIFF was then opened in LizardTech Geospatial Encoder 1.4 and converted to MrSID image format using a 10:1 compression ratio.  The resulting files include the image data (*.sid) and a world file (*.sdw).  ArcGIS did not recognize coordinate information for these files, so 3001, Inc.'s RAster Georeference Enabler (RAGE) tool was used to associate coordinate information with the MrSID image.  The RAGE tool is available from URL = http://www.3001data.com/3001website/main/downloads_files/rage/geotiff_header_repair.htm.</procdesc>
				<procdate Sync="TRUE">2002-2003</procdate>
				<srcused>Wilson and Skipp (1994)</srcused><srcprod>ChallisNF_rect.sid</srcprod></procstep>
		</lineage>
	</dataqual>
	<spdoinfo Sync="TRUE">
		<direct Sync="TRUE">Raster</direct>
		<rastinfo Sync="TRUE">
			<rasttype Sync="TRUE">Pixel</rasttype>
			<rowcount Sync="TRUE">7964</rowcount>
			<colcount Sync="TRUE">6925</colcount>
			<vrtcount Sync="TRUE">1</vrtcount>
			<rastband Sync="TRUE">3</rastband>
			<rastbpp Sync="TRUE">8</rastbpp>
			<rastcmap Sync="TRUE">FALSE</rastcmap>
			<rastcomp Sync="TRUE">Wavelet</rastcomp>
			<rastdtyp Sync="TRUE">pixel codes</rastdtyp>
			<rastifor Sync="TRUE">MrSID</rastifor>
			<rastorig Sync="TRUE">Upper Left</rastorig>
			<rastplyr Sync="TRUE">TRUE</rastplyr>
			<rastxsz Sync="TRUE">21.926874</rastxsz>
			<rastysz Sync="TRUE">21.926874</rastysz>
		</rastinfo>
	</spdoinfo>
	<spref Sync="TRUE">
		<horizsys Sync="TRUE">
			<planar Sync="TRUE">
				<gridsys Sync="TRUE">
					<gridsysn Sync="TRUE">Universal Transverse Mercator</gridsysn>
					<utm Sync="TRUE">
						<utmzone Sync="TRUE">12</utmzone>
						<transmer Sync="TRUE">
							<sfctrmer Sync="TRUE">0.999600</sfctrmer>
							<longcm Sync="TRUE">-111.000000</longcm>
							<latprjo Sync="TRUE">0.000000</latprjo>
							<feast Sync="TRUE">500000.000000</feast>
							<fnorth Sync="TRUE">0.000000</fnorth>
						</transmer>
					</utm>
				</gridsys>
				<planci Sync="TRUE">
					<plance Sync="TRUE">row and column</plance>
					<coordrep Sync="TRUE">
						<absres Sync="TRUE">21.926874</absres>
						<ordres Sync="TRUE">21.926874</ordres>
					</coordrep>
					<plandu Sync="TRUE">meters</plandu>
				</planci>
			</planar>
			<geodetic Sync="TRUE">
				<horizdn Sync="TRUE">North American Datum of 1927</horizdn>
				<ellips Sync="TRUE">Clarke 1866</ellips>
				<semiaxis Sync="TRUE">6378206.400000</semiaxis>
				<denflat Sync="TRUE">294.978698</denflat>
			</geodetic>
			<cordsysn Sync="TRUE">
				<geogcsn Sync="TRUE">GCS_North_American_1927</geogcsn>
				<projcsn Sync="TRUE">NAD_1927_UTM_Zone_12N</projcsn>
			</cordsysn>
		</horizsys>
	</spref>
	<eainfo Name="Band_1">
		<detailed Name="Band_1">
			<enttyp Sync="TRUE">
				<enttypl Sync="TRUE">Band_1</enttypl>
				<enttypc Sync="TRUE">256</enttypc>
				<enttypt Sync="TRUE">Table</enttypt>
			</enttyp>
			<attr Sync="TRUE">
				<attrlabl Sync="TRUE">ObjectID</attrlabl>
				<attrdef Sync="TRUE">Internal feature number.</attrdef>
				<attrdefs Sync="TRUE">ESRI</attrdefs>
				<attrdomv Sync="TRUE">
					<udom Sync="TRUE">Sequential unique whole numbers that are automatically generated.</udom>
				</attrdomv>
				<atprecis Sync="TRUE">0</atprecis>
				<attalias Sync="TRUE">ObjectID</attalias>
				<attrtype Sync="TRUE">OID</attrtype>
				<attscale Sync="TRUE">0</attscale>
				<attwidth Sync="TRUE">4</attwidth>
			</attr>
			<attr Sync="TRUE">
				<attrlabl Sync="TRUE">Value</attrlabl>
				<atprecis Sync="TRUE">0</atprecis>
				<attalias Sync="TRUE">Value</attalias>
				<attrtype Sync="TRUE">Integer</attrtype>
				<attscale Sync="TRUE">0</attscale>
				<attwidth Sync="TRUE">0</attwidth>
			</attr>
			<attr Sync="TRUE">
				<attrlabl Sync="TRUE">Count</attrlabl>
				<atprecis Sync="TRUE">0</atprecis>
				<attalias Sync="TRUE">Count</attalias>
				<attrtype Sync="TRUE">Integer</attrtype>
				<attscale Sync="TRUE">0</attscale>
				<attwidth Sync="TRUE">0</attwidth>
			</attr>
		</detailed>
		<detailed Name="Band_2">
			<enttyp Sync="TRUE">
				<enttypl Sync="TRUE">Band_2</enttypl>
				<enttypc Sync="TRUE">256</enttypc>
				<enttypt Sync="TRUE">Table</enttypt>
			</enttyp>
			<attr Sync="TRUE">
				<attrlabl Sync="TRUE">ObjectID</attrlabl>
				<attrdef Sync="TRUE">Internal feature number.</attrdef>
				<attrdefs Sync="TRUE">ESRI</attrdefs>
				<attrdomv Sync="TRUE">
					<udom Sync="TRUE">Sequential unique whole numbers that are automatically generated.</udom>
				</attrdomv>
				<atprecis Sync="TRUE">0</atprecis>
				<attalias Sync="TRUE">ObjectID</attalias>
				<attrtype Sync="TRUE">OID</attrtype>
				<attscale Sync="TRUE">0</attscale>
				<attwidth Sync="TRUE">4</attwidth>
			</attr>
			<attr Sync="TRUE">
				<attrlabl Sync="TRUE">Value</attrlabl>
				<atprecis Sync="TRUE">0</atprecis>
				<attalias Sync="TRUE">Value</attalias>
				<attrtype Sync="TRUE">Integer</attrtype>
				<attscale Sync="TRUE">0</attscale>
				<attwidth Sync="TRUE">0</attwidth>
			</attr>
			<attr Sync="TRUE">
				<attrlabl Sync="TRUE">Count</attrlabl>
				<atprecis Sync="TRUE">0</atprecis>
				<attalias Sync="TRUE">Count</attalias>
				<attrtype Sync="TRUE">Integer</attrtype>
				<attscale Sync="TRUE">0</attscale>
				<attwidth Sync="TRUE">0</attwidth>
			</attr>
		</detailed>
		<detailed Name="Band_3">
			<enttyp Sync="TRUE">
				<enttypl Sync="TRUE">Band_3</enttypl>
				<enttypc Sync="TRUE">256</enttypc>
				<enttypt Sync="TRUE">Table</enttypt>
			</enttyp>
			<attr Sync="TRUE">
				<attrlabl Sync="TRUE">ObjectID</attrlabl>
				<attrdef Sync="TRUE">Internal feature number.</attrdef>
				<attrdefs Sync="TRUE">ESRI</attrdefs>
				<attrdomv Sync="TRUE">
					<udom Sync="TRUE">Sequential unique whole numbers that are automatically generated.</udom>
				</attrdomv>
				<atprecis Sync="TRUE">0</atprecis>
				<attalias Sync="TRUE">ObjectID</attalias>
				<attrtype Sync="TRUE">OID</attrtype>
				<attscale Sync="TRUE">0</attscale>
				<attwidth Sync="TRUE">4</attwidth>
			</attr>
			<attr Sync="TRUE">
				<attrlabl Sync="TRUE">Value</attrlabl>
				<atprecis Sync="TRUE">0</atprecis>
				<attalias Sync="TRUE">Value</attalias>
				<attrtype Sync="TRUE">Integer</attrtype>
				<attscale Sync="TRUE">0</attscale>
				<attwidth Sync="TRUE">0</attwidth>
			</attr>
			<attr Sync="TRUE">
				<attrlabl Sync="TRUE">Count</attrlabl>
				<atprecis Sync="TRUE">0</atprecis>
				<attalias Sync="TRUE">Count</attalias>
				<attrtype Sync="TRUE">Integer</attrtype>
				<attscale Sync="TRUE">0</attscale>
				<attwidth Sync="TRUE">0</attwidth>
			</attr>
		</detailed>
	</eainfo>
	<distinfo Sync="TRUE">
		<distrib Sync="TRUE">
			<cntinfo Sync="TRUE">
				<cntorgp Sync="TRUE">
					<cntorg Sync="TRUE">U.S. Geological Survey, Spokane Field Office</cntorg>
					<cntper Sync="TRUE">Michael L. Zientek</cntper>
				</cntorgp>
				<cntaddr Sync="TRUE">
					<addrtype Sync="TRUE">mailing and physical address</addrtype>
					<address Sync="TRUE">904 W. Riverside, Room 202</address>
					<city>Spokane</city>
					<state>WA</state>
					<postal>99201-1087</postal>
				</cntaddr>
				<cntvoice Sync="TRUE">(509) 368-3105</cntvoice>
				<cntemail Sync="TRUE">mzientek@usgs.gov</cntemail>
			</cntinfo>
		</distrib>
		<resdesc>DS 106</resdesc>
		<distliab>
The U.S. Geological Survey (USGS) provides these geographic data "as is". The USGS makes no guarantee or warranty concerning the accuracy of information contained in the geographic data. The USGS further makes no warranties, either expressed or implied as to any other matter whatsoever, including, without limitation, the condition of the product, or its fitness for any particular purpose. The burden for determining fitness for use lies entirely with the user. Although these data have been processed successfully on computers at the USGS, no warranty, expressed or implied, is made by the USGS regarding the use of these data on any other system, nor does the fact of distribution constitute or imply any such warranty. 
In no event shall the USGS have any liability whatsoever for payment of any consequential, incidental, indirect, special, or tort damages of any kind, including, but not limited to, any loss of profits arising out of use of or reliance on the geographic data or arising out of the delivery, installation, operation, or support by USGS. 

This digital geologic map image is not meant to be used or displayed at any scale larger than 1:250,000 (for example, 1:2,00).
</distliab>
		<stdorder Sync="TRUE">
			<digform>
				<digtinfo>
					<formname Sync="TRUE">MrSID</formname>
					<formvern Sync="TRUE">1.4</formvern>
					<formspec>The SID file contains the image data.  The SDW file contains the world file.  The AUX file contains auxiliary information such as map projection, pointer to pyramid file, etc.  The XML file contains the metadata describing the data set &lt;data set name&gt;.sid.xml.</formspec>
					<filedec Sync="TRUE">MrSID</filedec>
					<transize Sync="TRUE">14.084</transize>
					<dssize Sync="TRUE">14.084</dssize>
				</digtinfo>
			</digform>
		</stdorder>
		<custom Sync="TRUE">N/A</custom>
		<techpreq Sync="TRUE">Software that supports MrSID image format is required to use this data.</techpreq>
	</distinfo>
	<metainfo Sync="TRUE">
		<metd Sync="TRUE">20040915</metd>
		<metc Sync="TRUE">
			<cntinfo Sync="TRUE">
				<cntperp Sync="TRUE">
					<cntper Sync="TRUE">Jeremy C. Larsen</cntper>
					<cntorg>Information Systems Support (under contract to the U.S. Geological Survey)</cntorg>
				</cntperp>
				<cntpos>Contractor</cntpos>
				<cntaddr>
					<addrtype Sync="TRUE">mailing and physical address</addrtype>
					<address Sync="TRUE">904 W. Riverside, Room 202</address>
					<city Sync="TRUE">Spokane</city>
					<state>WA</state>
					<postal>99201</postal>
				</cntaddr>
				<cntvoice Sync="TRUE">(509) 368-3118</cntvoice>
				<cntemail Sync="TRUE">jlarsen@usgs.gov</cntemail>
			</cntinfo>
		</metc>
		<metstdn Sync="TRUE">FGDC Content Standards for Digital Geospatial Metadata</metstdn>
		<metstdv Sync="TRUE">FGDC-STD-001-1998</metstdv>
		<mettc Sync="TRUE">local time</mettc>
		<metac Sync="TRUE">none</metac>
		<metuc Sync="TRUE">none</metuc>
		<metextns Sync="TRUE">
			<onlink Sync="TRUE">http://www.esri.com/metadata/esriprof80.html</onlink>
			<metprof Sync="TRUE">ESRI Metadata Profile</metprof>
		</metextns>
		<langmeta Sync="TRUE">en</langmeta>
	</metainfo>
	<dataIdInfo Sync="TRUE">
		<envirDesc Sync="TRUE">Microsoft Windows 2000 Version 5.1 (Build 2600) Service Pack 1; ESRI ArcCatalog 8.3.0.800</envirDesc>
		<dataLang Sync="TRUE" value="en">
			<languageCode Sync="TRUE" value="en"></languageCode>
		</dataLang>
		<geoBox esriExtentType="decdegrees">
			<westBL Sync="TRUE">-114.632622</westBL>
			<eastBL Sync="TRUE">-112.662174</eastBL>
			<northBL Sync="TRUE">45.056012</northBL>
			<southBL Sync="TRUE">43.441845</southBL>
			<exTypeCode Sync="TRUE">1</exTypeCode>
		</geoBox>
		<idCitation Sync="TRUE">
			<resTitle Sync="TRUE">ChallisNF_rect.sid</resTitle>
			<presForm Sync="TRUE" value="005">
				<PresFormCd Sync="TRUE" value="005"></PresFormCd>
			</presForm>
		</idCitation>
		<spatRpType Sync="TRUE" value="002">
			<SpatRepTypCd Sync="TRUE" value="002"></SpatRepTypCd>
		</spatRpType>
		<dataExt Sync="TRUE">
			<geoEle Sync="TRUE">
				<GeoBndBox esriExtentType="native">
					<westBL Sync="TRUE">213739.842435</westBL>
					<northBL Sync="TRUE">4990372.975205</northBL>
					<southBL Sync="TRUE">4815747.351781</southBL>
					<eastBL Sync="TRUE">365583.443918</eastBL>
					<exTypeCode Sync="TRUE">1</exTypeCode>
				</GeoBndBox>
			</geoEle>
		</dataExt>
	</dataIdInfo>
	<distInfo Sync="TRUE">
		<distributor Sync="TRUE" value="en">
			<distorTran Sync="TRUE">
				<onLineSrc Sync="TRUE">
					<orDesc Sync="TRUE">002</orDesc>
					<protocol Sync="TRUE">Local Area Network</protocol>
					<linkage Sync="TRUE">file://\\Qsnap1\HWTRS\HW_RegionalGeology\Map_Images_Final\Report_working\OF04-xxx\GEOREFERENCED\ChallisNF_rect.sid</linkage>
				</onLineSrc>
				<transSize Sync="TRUE">14.084</transSize>
			</distorTran>
			<distorFormat Sync="TRUE">
				<formatName Sync="TRUE">Raster Dataset</formatName>
			</distorFormat>
		</distributor>
	</distInfo>
	<Esri Sync="TRUE" value="005">
		<MetaID Sync="TRUE">{07EA338C-CB4B-4B2D-B6C9-879DEE8A7824}</MetaID>
		<ModDate>20040915</ModDate>
		<ModTime>09221500</ModTime>
		<SyncDate Sync="TRUE">20040817</SyncDate>
		<SyncOnce>FALSE</SyncOnce>
		<SyncTime Sync="TRUE">09431700</SyncTime>
		<CreaDate Sync="TRUE" value="en">20030916</CreaDate>
		<CreaTime Sync="TRUE">09541300</CreaTime>
	</Esri>
	<mdChar Sync="TRUE">
		<CharSetCd Sync="TRUE" value="004"></CharSetCd>
	</mdChar>
	<mdDateSt Sync="TRUE">20040915</mdDateSt>
	<mdHrLv Sync="TRUE">
		<ScopeCd Sync="TRUE" value="005"></ScopeCd>
	</mdHrLv>
	<mdHrLvName Sync="TRUE">dataset</mdHrLvName>
	<mdLang Sync="TRUE" value="en">
		<languageCode Sync="TRUE" value="en"></languageCode>
	</mdLang>
	<mdStanName Sync="TRUE">ISO 19115 Geographic Information - Metadata</mdStanName>
	<mdStanVer Sync="TRUE">DIS_ESRI1.0</mdStanVer>
	<refSysInfo Sync="TRUE">
		<RefSystem Sync="TRUE">
			<refSysID Sync="TRUE">
				<identCode Sync="TRUE">NAD_1927_UTM_Zone_12N</identCode>
			</refSysID>
		</RefSystem>
	</refSysInfo>
	<spatRepInfo Sync="TRUE">
		<GridSpatRep Sync="TRUE">
			<numDims Sync="TRUE">2</numDims>
			<tranParaAv Sync="TRUE">1</tranParaAv>
			<axDimProps Sync="TRUE">
				<Dimen Sync="TRUE">
					<dimName Sync="TRUE" value="002">
						<DimNameTypCd Sync="TRUE" value="002"></DimNameTypCd>
					</dimName>
					<dimResol Sync="TRUE">21.92687</dimResol>
					<dimSize Sync="TRUE">6925</dimSize>
				</Dimen>
				<Dimen Sync="TRUE">
					<dimName Sync="TRUE" value="001">
						<DimNameTypCd Sync="TRUE" value="001"></DimNameTypCd>
					</dimName>
					<dimResol Sync="TRUE">21.92687</dimResol>
					<dimSize Sync="TRUE">7964</dimSize>
				</Dimen>
			</axDimProps>
			<cellGeo Sync="TRUE" value="002">
				<CellGeoCd Sync="TRUE" value="002"></CellGeoCd>
			</cellGeo>
		</GridSpatRep>
	</spatRepInfo>
</metadata>
