16.236474773870949
0.0
0.0
-16.236474773870949
577213.40337094630
4876655.7785895607
