10.589391808068726
0.0694422201725718170
0.0627437177032955510
-10.604549356302217
485496.30311039684
4996726.0899782525
