0.00051386000000000
0.00000000000000000
0.00000000000000000
-0.00051386000000000
59.96908247999999700
39.02544066000000100
