97.8225641025641
0.0
0.0
-97.8225641025641
-496259.806476233
4533443.6468571
