9.2685230996056003
0.0
0.0
-9.2685230996056003
444031.64165962982
4094848.1059672832
