950.54024894442409
0.00000000000000
0.00000000000000
-950.54024894442409
-2908717.86888725915924
1506454.54108625045046
