778.90915932534324
0.00000000000000
0.00000000000000
-778.90915932534324
-2578961.22000204632059
607336.04526592080947
