714.44980420684522
0.00000000000000
0.00000000000000
-714.44980420684522
-774825.96506240183953
1910036.79478260385804
