610.60673309932463
0.00000000000000
0.00000000000000
-610.60673309932463
-2041697.73702959110960
1024264.49458542314824
