608.72050677333027
0.00000000000000
0.00000000000000
-608.72050677333027
-2971387.75196652766317
2509025.42259883973747
