34.33748113672482
0.00000000000000
0.00000000000000
-34.33748113672482
536075.64519433164969
259903.59247302042786
