35.03479545406299
0.00000000000000
0.00000000000000
-35.03479545406299
792465.10464203357697
170078.13666035173810
