34.81014323700219
0.00000000000000
0.00000000000000
-34.81014323700219
691898.03473018412478
212022.58652190514840
