675.94874451527085
0.00000000000000
0.00000000000000
-675.94874451527085
-436095.65940897009568
1141786.39271781151183
