DatasetHeader Begin
	Version	= "5.2"
	LastUpdated	= Tue Aug 26 10:47:09 GMT 1997
	SenseDate	= Tue Aug 26 10:47:09 GMT 1997
	DataSetType	= ERStorage
	DataType	= Raster
	ByteOrder	= MSBFirst
	CoordinateSpace Begin
		Datum	= "NAD27"
		Projection	= "ALINTAK1"
		CoordinateType	= EN
		Rotation	= 0:0:0.0
	CoordinateSpace End
	RasterInfo Begin
		CellType	= IEEE4ByteReal
		NullCellValue	= 1E+20
		CellInfo Begin
			Xdimension	= 1000.
			Ydimension	= 1000.
		CellInfo End
		NrOfLines	= 1716
		NrOfCellsPerLine	= 2216
		RegistrationCoord Begin
			Eastings	= -902500.
			Northings	= 1825500.
		RegistrationCoord End
		NrOfBands	= 1
		BandId Begin
			Value	= "mag"
		BandId End
	RasterInfo End
DatasetHeader End
