DatasetHeader Begin
	Version	= "5.2"
	LastUpdated	= Mon Feb 1 09:38:56 GMT 1999
	SenseDate	= Mon Feb 1 09:38:56 GMT 1999
	DataSetType	= ERStorage
	DataType	= Raster
	ByteOrder	= MSBFirst
	CoordinateSpace Begin
		Datum	= "NAD27"
		Projection	= "ALINTAK"
		CoordinateType	= EN
		Rotation	= 0:0:0.0
	CoordinateSpace End
	RasterInfo Begin
		CellType	= IEEE4ByteReal
		NullCellValue	= 1E+20
		CellInfo Begin
			Xdimension	= 1000.
			Ydimension	= 1000.
		CellInfo End
		NrOfLines	= 1716
		NrOfCellsPerLine	= 2216
		RegistrationCoord Begin
			Eastings	= -902500.
			Northings	= 1825500.
		RegistrationCoord End
		NrOfBands	= 1
		BandId Begin
			Value	= "magnetics"
		BandId End
	RasterInfo End
DatasetHeader End
