0.00002404600468
0.00000000000000
0.00000000000000
-0.00001786237293
-70.62498798505857
42.45399106778592
