0.00004814234902
0.00000000000000
0.00000000000000
-0.00003573522514
-70.62497593412272
42.45398213064342
