0.00012032828241
0.00000000000000
0.00000000000000
-0.00008870862808
-70.22228388586697
42.80000271564749
