0.00012025224090
0.00000000000000
0.00000000000000
-0.00008909691055
-70.22216042549297
42.44166521491975
