4.0003238217
0.0000000000
0.0000000000
-4.0465400583
328618.7785648734
3030119.9951005648
