1.99982502221607
0.00001217158001
0.00003871230977
-1.99975435324849
640050.64583975065000
3220476.22785746630000
