DatasetHeader Begin
	Version	= "5.5"
	LastUpdated	= Thu Sep 30 14:58:48 GMT 1999
	DataSetType	= ERStorage
	DataType	= Raster
	ByteOrder	= MSBFirst
	CoordinateSpace Begin
		Datum	= "NAD27"
		Projection	= "L2IDAHO"
		CoordinateType	= EN
		Rotation	= 0:0:0.0
	CoordinateSpace End
	RasterInfo Begin
		CellType	= IEEE4ByteReal
		NullCellValue	= 1E+20
		CellInfo Begin
			Xdimension	= 1000
			Ydimension	= 1000
		CellInfo End
		NrOfLines	= 784
		NrOfCellsPerLine	= 663
		RegistrationCoord Begin
			Eastings	= -331500
			Northings	= 5736500
		RegistrationCoord End
		NrOfBands	= 1
		BandId Begin
			Value	= "Pseudo Layer"
		BandId End
		RegionInfo Begin
			Type	= Polygon
			RegionName	= "All"
			SourceDataset	= "/d13/anne/idaho/newidaho_mask"
			RGBcolour Begin
				Red	= 65535
				Green	= 65535
				Blue	= 65535
			RGBcolour End
			SubRegion	= { 0 0 0 784 663 784 663 0 }
			Stats Begin
				NumberOfBands	= 1
				NumberOfNonNullCells	= { 243065 }
				NumberOfNullCells	= { 276727 }
				MinimumValue	= { -1323.348022461 }
				MaximumValue	= { 1240.703125 }
				MeanValue	= { -43.00940506545 }
				MedianValue	= { -71.36992645264 }
				CovarianceMatrix	= { 25586.13665365 }
			Stats End
		RegionInfo End
		RegionInfo Begin
			Type	= Polygon
			RegionName	= "Region_0"
			SubRegion	= { 92.6903 -6.5172 81.4857 291.1033 91.4453 338.9559 121.3243 373.9701 51.6067 505.8568 78.9957 542.0381 70.281 784.803 588.183 787.1373 579.4683 505.8568 540.8746 448.667 518.4654 480.1798 423.8487 491.8511 345.4164 350.6273 309.3127 372.803 319.2723 246.752 294.3732 251.4205 229.6355 174.3894 189.7969 106.6953 191.0418 -6.5172 }
			Stats Begin
				NumberOfBands	= 1
				NumberOfNonNullCells	= { 243065 }
				NumberOfNullCells	= { 4088 }
				MinimumValue	= { -1323.348022461 }
				MaximumValue	= { 1240.703125 }
				MeanValue	= { -43.00940506545 }
				MedianValue	= { -71.36992645264 }
				CovarianceMatrix	= { 25586.13665365 }
			Stats End
		RegionInfo End
	RasterInfo End
DatasetHeader End
