250
0.0
0.0
-250
-671908.103425
240657.741475
