1.000000
0.000000
0.000000
-1.000000
688352.500000
2020464.500000
