1.0000000000
0.0000000000
0.0000000000
-1.0000000000
688352.5000000000
2020464.5000000000
