0.0024842729
0.0000000000
0.0000000000
-0.0022824204
-95.9987578636
29.4988587898
