28.49884660414289
-0.02377344037540
-0.00853329624310
-28.49852798752821
545289.90152476669755
2939073.65563207492232
