28.48577937811409
0.00175335959472
0.00611021221761
-28.49905335394534
260054.86749172434793
3100418.18933860538527
