28.46077400775716
-0.01787730153787
-0.00776888868823
-28.50530203386163
622209.07389171421528
3449227.30199441732839
