28.42047991835594
-0.03939416545243
-0.00530443384826
-28.50141770285502
590291.60679076320957
3310299.01200409792364
