28.45128948797518
-0.01400376006609
-0.01623366702745
-28.49259331768513
481313.88438094552839
3458759.42248323652893
