28.44362855604436
-0.02367872622840
-0.01312465596534
-28.50242025178934
237615.89045701810392
3673117.23177571827546
