28.43573389264852
-0.02034557668371
-0.02405341859538
-28.51686533599798
73422.00627263978822
3623614.77602621959522
