28.44884922165498
-0.02442422363919
-0.00062071649451
-28.49708010795432
498415.32588989118813
3605798.11855179676786
