28.41334157507382
-0.02703435949496
-0.01740229008814
-28.50198323722795
362447.93127309519332
3608118.64318879600614
