28.49572829916184
-0.00126075528058
-0.00194253251846
-28.49271005278048
214379.59499338292517
3672889.61922794207931
