28.45207120314803
-0.02245081328156
0.02600500378252
-28.46393578061403
203119.22009010880720
3623086.91460125520825
