28.49473143539522
-0.02996402719445
-0.00513732210953
-28.49731389633838
658384.16811890830286
3779825.84812705684453
