28.65743857136813
-0.03531296268961
-0.57039185059574
-28.41263045192238
620897.56088969472330
3620229.08269886951894
