28.49180004976732
-0.03237843237179
0.00556844633591
-28.52181324227495
513461.29438465036219
3780827.01947216596454
