28.10349013681217
0.03350945688127
2.41017878746023
-28.73119047195620
475507.91633090295363
3619567.07053720485419
