28.49919701801434
-0.02039045292994
-0.01538530619043
-28.51230230219702
369578.03835063340375
3775873.32978603243828
