25.0015575904
0.0000000000
0.0000000000
-24.9971536551
539734.5468386617
2975242.8518530079
